BEGIN:VCALENDAR
VERSION:2.0
PRODID:-//Sherwood Nordic Walking - ECPv6.15.12.2//NONSGML v1.0//EN
CALSCALE:GREGORIAN
METHOD:PUBLISH
X-ORIGINAL-URL:https://www.sherwoodnordicwalking.co.uk
X-WR-CALDESC:Events for Sherwood Nordic Walking
REFRESH-INTERVAL;VALUE=DURATION:PT1H
X-Robots-Tag:noindex
X-PUBLISHED-TTL:PT1H
BEGIN:VTIMEZONE
TZID:Europe/London
BEGIN:DAYLIGHT
TZOFFSETFROM:+0000
TZOFFSETTO:+0100
TZNAME:BST
DTSTART:20220327T010000
END:DAYLIGHT
BEGIN:STANDARD
TZOFFSETFROM:+0100
TZOFFSETTO:+0000
TZNAME:GMT
DTSTART:20221030T010000
END:STANDARD
BEGIN:DAYLIGHT
TZOFFSETFROM:+0000
TZOFFSETTO:+0100
TZNAME:BST
DTSTART:20230326T010000
END:DAYLIGHT
BEGIN:STANDARD
TZOFFSETFROM:+0100
TZOFFSETTO:+0000
TZNAME:GMT
DTSTART:20231029T010000
END:STANDARD
BEGIN:DAYLIGHT
TZOFFSETFROM:+0000
TZOFFSETTO:+0100
TZNAME:BST
DTSTART:20240331T010000
END:DAYLIGHT
BEGIN:STANDARD
TZOFFSETFROM:+0100
TZOFFSETTO:+0000
TZNAME:GMT
DTSTART:20241027T010000
END:STANDARD
END:VTIMEZONE
BEGIN:VEVENT
DTSTART;TZID=Europe/London:20230626T100000
DTEND;TZID=Europe/London:20230626T110000
DTSTAMP:20260423T194822
CREATED:20230311T174924Z
LAST-MODIFIED:20230624T081128Z
UID:10001539-1687773600-1687777200@www.sherwoodnordicwalking.co.uk
SUMMARY:King's Park Get out Get Active
DESCRIPTION:Join Sherwood Nordic Walking at Retford’s King’s Park to have a go at Nordic Walking. \nThis session is suitable for beginners and anyone new to exercise. It is also a great session to join if you are getting back into being active after illness or injury. \nThere are so many benefits to nordic walking. Give it a go and see what it can do for you. \nPlease meet me in the Asda overflow carpark\, behind the Asda petrol station. Wharf Road\, Retford\, DN22 6EN \nPoles are provided free of charge. I can advise you on buying your own if you decide you would like to. \n  \nLATE CANCELLATION POLICY: Sherwood Nordic Walking has a late cancellation policy whereby we require 24 hours’ notice for cancelling a walk. A refund minus 50p booking fee may be issued up until this time but will be dependent on the cancelling client making contact with Tracy. \n\nThank you\, \nTracy Hall \n07891932782 
URL:https://www.sherwoodnordicwalking.co.uk/walks/kings-park-get-out-get-active-9/
LOCATION:Kings Park\, Retford\, Chancery Lane\, Retford\, DN22 6DF
CATEGORIES:King's Park
END:VEVENT
BEGIN:VEVENT
DTSTART;TZID=Europe/London:20230626T100000
DTEND;TZID=Europe/London:20230626T120000
DTSTAMP:20260423T194822
CREATED:20230403T134454Z
LAST-MODIFIED:20230403T134454Z
UID:10001605-1687773600-1687780800@www.sherwoodnordicwalking.co.uk
SUMMARY:Monday Motivator at Idle Valley Nature Reserve
DESCRIPTION:Kick start your week with a feel good moderate pace across the Idle Valley Nature Reserve with the Sherwood Nordic walkers. This session is suitable for newly trained members and current members alike. Elaine will lead most of these sessions and will aim to keep the sessions varied and fresh. \n  \nDistance: 4-5 miles \nPace: Moderate \n  \nLATE CANCELLATION POLICY: Sherwood Nordic Walking has a late cancellation policy whereby we require 24 hours’ notice for cancelling a walk. A refund minus 50p booking fee will be issued up until this time but will be dependent on the cancelling client making contact with Tracy or Elaine before cancelling.  \nThank you\, \nTracy and Elaine \n07891932782 and 07827652795
URL:https://www.sherwoodnordicwalking.co.uk/walks/monday-motivator-at-idle-valley-nature-reserve-5/
LOCATION:Idle Valley Nature Reserve\, North Road\, Retford\, DN22 8RQ
CATEGORIES:Idle Valley Nature Reserve
ORGANIZER;CN="Elaine Rockcliffe":MAILTO:elrockcliffe@btinternet.com
END:VEVENT
END:VCALENDAR