BEGIN:VCALENDAR
VERSION:2.0
PRODID:-//Sherwood Nordic Walking - ECPv6.15.12.2//NONSGML v1.0//EN
CALSCALE:GREGORIAN
METHOD:PUBLISH
X-WR-CALNAME:Sherwood Nordic Walking
X-ORIGINAL-URL:https://www.sherwoodnordicwalking.co.uk
X-WR-CALDESC:Events for Sherwood Nordic Walking
REFRESH-INTERVAL;VALUE=DURATION:PT1H
X-Robots-Tag:noindex
X-PUBLISHED-TTL:PT1H
BEGIN:VTIMEZONE
TZID:Europe/London
BEGIN:DAYLIGHT
TZOFFSETFROM:+0000
TZOFFSETTO:+0100
TZNAME:BST
DTSTART:20220327T010000
END:DAYLIGHT
BEGIN:STANDARD
TZOFFSETFROM:+0100
TZOFFSETTO:+0000
TZNAME:GMT
DTSTART:20221030T010000
END:STANDARD
BEGIN:DAYLIGHT
TZOFFSETFROM:+0000
TZOFFSETTO:+0100
TZNAME:BST
DTSTART:20230326T010000
END:DAYLIGHT
BEGIN:STANDARD
TZOFFSETFROM:+0100
TZOFFSETTO:+0000
TZNAME:GMT
DTSTART:20231029T010000
END:STANDARD
BEGIN:DAYLIGHT
TZOFFSETFROM:+0000
TZOFFSETTO:+0100
TZNAME:BST
DTSTART:20240331T010000
END:DAYLIGHT
BEGIN:STANDARD
TZOFFSETFROM:+0100
TZOFFSETTO:+0000
TZNAME:GMT
DTSTART:20241027T010000
END:STANDARD
END:VTIMEZONE
BEGIN:VEVENT
DTSTART;TZID=Europe/London:20230705T100000
DTEND;TZID=Europe/London:20230705T120000
DTSTAMP:20260423T164325
CREATED:20230313T172846Z
LAST-MODIFIED:20230313T172846Z
UID:10001565-1688551200-1688558400@www.sherwoodnordicwalking.co.uk
SUMMARY:Walk Leader *slower* Adventure to Clumber Park
DESCRIPTION:Welcome to Wednesday Walk Leader Adventure with Tricia and Liz. \n\n\nTricia will warm you all up before taking you on a steady 3.5 – 4.5 mile nordic walk through Clumber Park. \n\n\nPlease park by the Norman Gates\, opposite the Clumber Park Hotel. \n\n\nDistance: 3.5 – 4.5 miles \nLATE CANCELLATION POLICY: Sherwood Nordic Walking has a late cancellation policy whereby we require 24 hours’ notice for cancelling a walk. A refund minus 50p booking fee will be issued up until this time but will be dependent on the cancelling client making contact with Tracy\, Liz or Tricia before cancelling.  \nThank you\, \nTracy\, Liz and Tricia \n07891932782\, 07989616423 and 07879344930
URL:https://www.sherwoodnordicwalking.co.uk/walks/walk-leader-slower-adventure-to-clumber-park-13/
LOCATION:Normanton Gates\, Clumber Park\, Normanton Gates\, Clumber Park\, S80 3PA
CATEGORIES:Normanton Gates
ORGANIZER;CN="Liz Kent":MAILTO:trxie@hotmail.co.uk
END:VEVENT
BEGIN:VEVENT
DTSTART;TZID=Europe/London:20230705T180000
DTEND;TZID=Europe/London:20230705T190000
DTSTAMP:20260423T164325
CREATED:20230313T175316Z
LAST-MODIFIED:20230313T175316Z
UID:10001569-1688580000-1688583600@www.sherwoodnordicwalking.co.uk
SUMMARY:Evening Session at Langold Country Park
DESCRIPTION:Do you want to nordic walk at your optimum pace? Do you want to have your distance timed so that you can compare your pace week by week? If so\, then this session is for you. \nThese sessions will be 3 miles / 5 km in distance along a risk-assessed route. \nPlease ensure you arrive in good time for the warm up. \n  \nLATE CANCELLATION POLICY: Sherwood Nordic Walking has a late cancellation policy whereby we require 24 hours’ notice for cancelling a walk. A  refund minus 50p booking fee may be issued up until this time but will be dependent on the cancelling client making contact with Elaine or Tracy.  \nThank you\, \nTracy and Elaine \n07891932782 and 07827652795
URL:https://www.sherwoodnordicwalking.co.uk/walks/evening-session-at-langold-country-park-3/
LOCATION:Langold Country Park Cafe Carpark\, Langold Country Park\, Langold\, S81 9QW\, United Kingdom
CATEGORIES:Langold Country Park
ORGANIZER;CN="Elaine Rockcliffe":MAILTO:elrockcliffe@btinternet.com
END:VEVENT
BEGIN:VEVENT
DTSTART;TZID=Europe/London:20230705T180000
DTEND;TZID=Europe/London:20230705T193000
DTSTAMP:20260423T164325
CREATED:20230607T130052Z
LAST-MODIFIED:20230627T074410Z
UID:10001636-1688580000-1688585400@www.sherwoodnordicwalking.co.uk
SUMMARY:Beginner's Training at Langold Country Park
DESCRIPTION:Would you like to learn how to nordic walk? This fast-track course will teach you all you need to know to enjoy the International Nordic Walking (INWA) technique. \nAn introduction to the nordic walking poles and their features before moving on to learn the few basic steps of the INWA 10-step technique. We will cover posture\, pole position\, arm swing and forward propulsion. \nPoles are available to use free of charge. There are also some poles available to purchase after the course. \nYou will need to complete a PAR-Q health questionnaire prior to taking part. I will send this to you a few days before the course – please check your junk email boxes. \n  \nLATE CANCELLATION POLICY: Sherwood Nordic Walking has a late cancellation policy whereby we require 24 hours’ notice for cancelling a walk. A transfer to another course may be issued up until this time but will be dependent on the cancelling client making contact with Tracy.  \nThank you\, \nTracy Hall \n07891932782
URL:https://www.sherwoodnordicwalking.co.uk/walks/beginners-training-at-langold-country-park/
LOCATION:Langold Country Park Cafe Carpark\, Langold Country Park\, Langold\, S81 9QW\, United Kingdom
CATEGORIES:Langold Country Park
END:VEVENT
END:VCALENDAR