BEGIN:VCALENDAR
VERSION:2.0
PRODID:-//Sherwood Nordic Walking - ECPv6.15.12.2//NONSGML v1.0//EN
CALSCALE:GREGORIAN
METHOD:PUBLISH
X-WR-CALNAME:Sherwood Nordic Walking
X-ORIGINAL-URL:https://www.sherwoodnordicwalking.co.uk
X-WR-CALDESC:Events for Sherwood Nordic Walking
REFRESH-INTERVAL;VALUE=DURATION:PT1H
X-Robots-Tag:noindex
X-PUBLISHED-TTL:PT1H
BEGIN:VTIMEZONE
TZID:Europe/London
BEGIN:DAYLIGHT
TZOFFSETFROM:+0000
TZOFFSETTO:+0100
TZNAME:BST
DTSTART:20220327T010000
END:DAYLIGHT
BEGIN:STANDARD
TZOFFSETFROM:+0100
TZOFFSETTO:+0000
TZNAME:GMT
DTSTART:20221030T010000
END:STANDARD
BEGIN:DAYLIGHT
TZOFFSETFROM:+0000
TZOFFSETTO:+0100
TZNAME:BST
DTSTART:20230326T010000
END:DAYLIGHT
BEGIN:STANDARD
TZOFFSETFROM:+0100
TZOFFSETTO:+0000
TZNAME:GMT
DTSTART:20231029T010000
END:STANDARD
BEGIN:DAYLIGHT
TZOFFSETFROM:+0000
TZOFFSETTO:+0100
TZNAME:BST
DTSTART:20240331T010000
END:DAYLIGHT
BEGIN:STANDARD
TZOFFSETFROM:+0100
TZOFFSETTO:+0000
TZNAME:GMT
DTSTART:20241027T010000
END:STANDARD
END:VTIMEZONE
BEGIN:VEVENT
DTSTART;TZID=Europe/London:20230719T100000
DTEND;TZID=Europe/London:20230719T120000
DTSTAMP:20260423T175511
CREATED:20230312T165331Z
LAST-MODIFIED:20230312T165331Z
UID:10001324-1689760800-1689768000@www.sherwoodnordicwalking.co.uk
SUMMARY:Walk Leader *Slower* Adventure in Everton
DESCRIPTION:Welcome to Wednesday Walk Leader Adventures with Tricia and Liz. \n\n\nTricia will warm you all up before taking you on a steady 3.5 – 4.5 mile Adventure beginning in the village of Everton. \n\n\nThis delightful route takes us along open countryside\, along the river Idle and through woodland. Beginning and ending at The Bean Scene there is ample parking! We can stop for a hot drink and snacks/lunch at the end. \n\n\nSometimes the start point may be The Yurt or near the Church in Everton\, so we will update you if this is the case. \n\n\n3.5 – 4.5 miles \n\n\n249ft ascent (max) \n  \nLATE CANCELLATION POLICY: Sherwood Nordic Walking has a late cancellation policy whereby we require 24 hours’ notice for cancelling a walk. A refund minus 50p booking fee will be issued up until this time but will be dependent on the cancelling client making contact with Tracy\, Liz or Tricia before cancelling.  \nThank you\, \nTracy\, Liz and Tricia \n07891932782\, 07989616423 and 07879344930
URL:https://www.sherwoodnordicwalking.co.uk/walks/walk-leader-slower-adventure-in-everton-12/
LOCATION:Bean Scene\, Gainsborough Road\, Everton\, DN10 5BW
CATEGORIES:Everton
ORGANIZER;CN="Tricia Scott":MAILTO:triciascott@hotmail.co.uk
END:VEVENT
BEGIN:VEVENT
DTSTART;TZID=Europe/London:20230719T180000
DTEND;TZID=Europe/London:20230719T190000
DTSTAMP:20260423T175511
CREATED:20230403T155633Z
LAST-MODIFIED:20230714T171653Z
UID:10001389-1689789600-1689793200@www.sherwoodnordicwalking.co.uk
SUMMARY:Evening session at Idle Valley Nature Reserve
DESCRIPTION:Do you want to nordic walk at your optimum pace? Do you want to have your distance timed so that you can compare your pace week by week? If so\, then this session is for you. \nThese sessions will be 3 miles / 5 km in distance along a risk-assessed route. \nPlease ensure you arrive in good time for the warm up. \n  \nLATE CANCELLATION POLICY: Sherwood Nordic Walking has a late cancellation policy whereby we require 24 hours’ notice for cancelling a walk. A  refund minus 50p booking fee may be issued up until this time but will be dependent on the cancelling client making contact with Elaine or Tracy.  \nThank you\, \nTracy and Elaine \n07891932782 and 07827652795
URL:https://www.sherwoodnordicwalking.co.uk/walks/evening-session-at-idle-valley-nature-reserve-3/
LOCATION:Idle Valley Nature Reserve\, North Road\, Retford\, DN22 8RQ
CATEGORIES:Idle Valley Nature Reserve
ORGANIZER;CN="Elaine Rockcliffe":MAILTO:elrockcliffe@btinternet.com
END:VEVENT
END:VCALENDAR