BEGIN:VCALENDAR
VERSION:2.0
PRODID:-//Sherwood Nordic Walking - ECPv6.15.12.2//NONSGML v1.0//EN
CALSCALE:GREGORIAN
METHOD:PUBLISH
X-ORIGINAL-URL:https://www.sherwoodnordicwalking.co.uk
X-WR-CALDESC:Events for Sherwood Nordic Walking
REFRESH-INTERVAL;VALUE=DURATION:PT1H
X-Robots-Tag:noindex
X-PUBLISHED-TTL:PT1H
BEGIN:VTIMEZONE
TZID:Europe/London
BEGIN:DAYLIGHT
TZOFFSETFROM:+0000
TZOFFSETTO:+0100
TZNAME:BST
DTSTART:20220327T010000
END:DAYLIGHT
BEGIN:STANDARD
TZOFFSETFROM:+0100
TZOFFSETTO:+0000
TZNAME:GMT
DTSTART:20221030T010000
END:STANDARD
BEGIN:DAYLIGHT
TZOFFSETFROM:+0000
TZOFFSETTO:+0100
TZNAME:BST
DTSTART:20230326T010000
END:DAYLIGHT
BEGIN:STANDARD
TZOFFSETFROM:+0100
TZOFFSETTO:+0000
TZNAME:GMT
DTSTART:20231029T010000
END:STANDARD
BEGIN:DAYLIGHT
TZOFFSETFROM:+0000
TZOFFSETTO:+0100
TZNAME:BST
DTSTART:20240331T010000
END:DAYLIGHT
BEGIN:STANDARD
TZOFFSETFROM:+0100
TZOFFSETTO:+0000
TZNAME:GMT
DTSTART:20241027T010000
END:STANDARD
END:VTIMEZONE
BEGIN:VEVENT
DTSTART;TZID=Europe/London:20230721T100000
DTEND;TZID=Europe/London:20230721T120000
DTSTAMP:20260425T131318
CREATED:20230403T132803Z
LAST-MODIFIED:20230720T174938Z
UID:10001598-1689933600-1689940800@www.sherwoodnordicwalking.co.uk
SUMMARY:Feel Good Friday at Creswell Crags
DESCRIPTION:We will begin at The Dukeries (Notcutts) garden centre carpark. From the carpark we will cross over the main road and wind our way along a country lane and through open farmland until we reach the spectacular Creswell Crags. Another country lane leads us past the quarries at Creswell before we head back towards Creswell Crags\, along the main road nd back to the garden centre carpark. \n\n\nThere is some steep terrain and also a stile to climb over. \n\n\nRefreshments are available at the end of the walk at the end at the garden centre café. \n\n\nDistance: 4.6 miles \n\nLATE CANCELLATION POLICY: Sherwood Nordic Walking has a late cancellation policy whereby we require 24 hours’ notice for cancelling a walk. A refund minus 50p processing fee will be issued up until this time but will be dependent on the cancelling client making contact with Tracy before cancelling.  \nThank you\, \nTracy Hall \n07891932782 
URL:https://www.sherwoodnordicwalking.co.uk/walks/feel-good-friday-at-creswell-crags/
LOCATION:Creswell Crags\, Mansfield Road\, Worksop\, S80 3LT
CATEGORIES:Creswell Crags
ORGANIZER;CN="Elaine Rockcliffe":MAILTO:elrockcliffe@btinternet.com
END:VEVENT
END:VCALENDAR