BEGIN:VCALENDAR
VERSION:2.0
PRODID:-//Sherwood Nordic Walking - ECPv6.15.12.2//NONSGML v1.0//EN
CALSCALE:GREGORIAN
METHOD:PUBLISH
X-WR-CALNAME:Sherwood Nordic Walking
X-ORIGINAL-URL:https://www.sherwoodnordicwalking.co.uk
X-WR-CALDESC:Events for Sherwood Nordic Walking
REFRESH-INTERVAL;VALUE=DURATION:PT1H
X-Robots-Tag:noindex
X-PUBLISHED-TTL:PT1H
BEGIN:VTIMEZONE
TZID:Europe/London
BEGIN:DAYLIGHT
TZOFFSETFROM:+0000
TZOFFSETTO:+0100
TZNAME:BST
DTSTART:20220327T010000
END:DAYLIGHT
BEGIN:STANDARD
TZOFFSETFROM:+0100
TZOFFSETTO:+0000
TZNAME:GMT
DTSTART:20221030T010000
END:STANDARD
BEGIN:DAYLIGHT
TZOFFSETFROM:+0000
TZOFFSETTO:+0100
TZNAME:BST
DTSTART:20230326T010000
END:DAYLIGHT
BEGIN:STANDARD
TZOFFSETFROM:+0100
TZOFFSETTO:+0000
TZNAME:GMT
DTSTART:20231029T010000
END:STANDARD
BEGIN:DAYLIGHT
TZOFFSETFROM:+0000
TZOFFSETTO:+0100
TZNAME:BST
DTSTART:20240331T010000
END:DAYLIGHT
BEGIN:STANDARD
TZOFFSETFROM:+0100
TZOFFSETTO:+0000
TZNAME:GMT
DTSTART:20241027T010000
END:STANDARD
END:VTIMEZONE
BEGIN:VEVENT
DTSTART;TZID=Europe/London:20230830T100000
DTEND;TZID=Europe/London:20230830T120000
DTSTAMP:20260425T115608
CREATED:20230312T182951Z
LAST-MODIFIED:20230828T185932Z
UID:10001337-1693389600-1693396800@www.sherwoodnordicwalking.co.uk
SUMMARY:Walk Leader *slower* Adventure at Idle Valley Nature Reserve
DESCRIPTION:Welcome to the Wednesday Walk Leader Adventure with Tricia and Liz. \n\n\nTricia will warm you all up before taking you on a steady 3.5 – 4.5 mile nordic walk around the spectacular Idle Valley Nature Reserve. \n\n\nStarting and ending at the main carpark which is currently donation inside only. The cafe is open! \n\n\nDistance: 3.5 – 4.5 miles \nLATE CANCELLATION POLICY: Sherwood Nordic Walking has a late cancellation policy whereby we require 24 hours’ notice for cancelling a walk. A refund minus 50p booking fee will be issued up until this time but will be dependent on the cancelling client making contact with Tracy\, Liz or Tricia before cancelling.  \nThank you\, \nTracy\, Liz and Tricia \n07891932782\, 07989616423 and 07879344930
URL:https://www.sherwoodnordicwalking.co.uk/walks/walk-leader-slower-adventure-at-idle-valley-nature-reserve-18/
LOCATION:Idle Valley Nature Reserve\, North Road\, Retford\, DN22 8RQ
CATEGORIES:Idle Valley Nature Reserve
ORGANIZER;CN="Liz Kent":MAILTO:trxie@hotmail.co.uk
END:VEVENT
BEGIN:VEVENT
DTSTART;TZID=Europe/London:20230830T180000
DTEND;TZID=Europe/London:20230830T190000
DTSTAMP:20260425T115608
CREATED:20230313T175605Z
LAST-MODIFIED:20230313T175605Z
UID:10001571-1693418400-1693422000@www.sherwoodnordicwalking.co.uk
SUMMARY:Evening Session at Langold Country Park
DESCRIPTION:Do you want to nordic walk at your optimum pace? Do you want to have your distance timed so that you can compare your pace week by week? If so\, then this session is for you. \nThese sessions will be 3 miles / 5 km in distance along a risk-assessed route. \nPlease ensure you arrive in good time for the warm up. \n  \nLATE CANCELLATION POLICY: Sherwood Nordic Walking has a late cancellation policy whereby we require 24 hours’ notice for cancelling a walk. A  refund minus 50p booking fee may be issued up until this time but will be dependent on the cancelling client making contact with Elaine or Tracy.  \nThank you\, \nTracy and Elaine \n07891932782 and 07827652795
URL:https://www.sherwoodnordicwalking.co.uk/walks/evening-session-at-langold-country-park-5/
LOCATION:Langold Country Park Cafe Carpark\, Langold Country Park\, Langold\, S81 9QW\, United Kingdom
CATEGORIES:Langold Country Park
ORGANIZER;CN="Elaine Rockcliffe":MAILTO:elrockcliffe@btinternet.com
END:VEVENT
END:VCALENDAR