BEGIN:VCALENDAR
VERSION:2.0
PRODID:-//Sherwood Nordic Walking - ECPv6.15.12.2//NONSGML v1.0//EN
CALSCALE:GREGORIAN
METHOD:PUBLISH
X-WR-CALNAME:Sherwood Nordic Walking
X-ORIGINAL-URL:https://www.sherwoodnordicwalking.co.uk
X-WR-CALDESC:Events for Sherwood Nordic Walking
REFRESH-INTERVAL;VALUE=DURATION:PT1H
X-Robots-Tag:noindex
X-PUBLISHED-TTL:PT1H
BEGIN:VTIMEZONE
TZID:Europe/London
BEGIN:DAYLIGHT
TZOFFSETFROM:+0000
TZOFFSETTO:+0100
TZNAME:BST
DTSTART:20220327T010000
END:DAYLIGHT
BEGIN:STANDARD
TZOFFSETFROM:+0100
TZOFFSETTO:+0000
TZNAME:GMT
DTSTART:20221030T010000
END:STANDARD
BEGIN:DAYLIGHT
TZOFFSETFROM:+0000
TZOFFSETTO:+0100
TZNAME:BST
DTSTART:20230326T010000
END:DAYLIGHT
BEGIN:STANDARD
TZOFFSETFROM:+0100
TZOFFSETTO:+0000
TZNAME:GMT
DTSTART:20231029T010000
END:STANDARD
BEGIN:DAYLIGHT
TZOFFSETFROM:+0000
TZOFFSETTO:+0100
TZNAME:BST
DTSTART:20240331T010000
END:DAYLIGHT
BEGIN:STANDARD
TZOFFSETFROM:+0100
TZOFFSETTO:+0000
TZNAME:GMT
DTSTART:20241027T010000
END:STANDARD
END:VTIMEZONE
BEGIN:VEVENT
DTSTART;TZID=Europe/London:20230920T093000
DTEND;TZID=Europe/London:20230920T110000
DTSTAMP:20260423T194803
CREATED:20230825T164827Z
LAST-MODIFIED:20230825T164916Z
UID:10001650-1695202200-1695207600@www.sherwoodnordicwalking.co.uk
SUMMARY:Thoresby Park Beginner's Training 2/3
DESCRIPTION:Following on from the Beginner’s Training Session Part 1 we begin with a recap of the basic INWA technique steps. We will move onto the hill technique and foot dynamics before progressing onto cover up to step 6 of 10. \nYou can only book Session 2 if you have completed the Beginner’s Nordic Walking Training Part 1\, or already have experience of nordic walking. \nPoles are available to use free of charge. \nSession 3 on 27th September incorporates further practise and recap on key areas of the technique. \n  \nLATE CANCELLATION POLICY: Sherwood Nordic Walking has a late cancellation policy whereby we require 24 hours’ notice for cancelling a walk. A transfer onto another course may be issued up until this time but will be dependent on the cancelling client making contact with Tracy.  \nThank you\, \nTracy Hall \n07891932782
URL:https://www.sherwoodnordicwalking.co.uk/walks/thoresby-park-beginners-2-3-3/
LOCATION:Thoresby Park\, The Courtyard\, Thoresby Park\, Newark\, NG22 9EP\, United Kingdom
CATEGORIES:Thoresby Park
END:VEVENT
BEGIN:VEVENT
DTSTART;TZID=Europe/London:20230920T100000
DTEND;TZID=Europe/London:20230920T120000
DTSTAMP:20260423T194803
CREATED:20230312T144112Z
LAST-MODIFIED:20230312T144228Z
UID:10001557-1695204000-1695211200@www.sherwoodnordicwalking.co.uk
SUMMARY:Walk Leader *Slower* Adventure at Hatfield Moors
DESCRIPTION:Welcome to Wednesday Walk Leader Adventure with Liz and Tricia. \n\n\nLiz will warm you all up before taking you on a steady 3.5 – 4 mile nordic walk around the glorious Hatfield Moors. \n\nPlease bring cash for the parking donation box. \n  \nLATE CANCELLATION POLICY: Sherwood Nordic Walking has a late cancellation policy whereby we require 24 hours’ notice for cancelling a walk. A refund minus 50p booking fee will be issued up until this time but will be dependent on the cancelling client making contact with Tracy\, Liz or Tricia before cancelling.  \nThank you\, \nTracy\, Liz and Tricia \n07891932782\, 07989616423 and 07879344930
URL:https://www.sherwoodnordicwalking.co.uk/walks/walk-leader-slower-adventure-at-hatfield-moors-12/
LOCATION:Hatfield Moors\, Hatfield Moors\, DN7 6BF
CATEGORIES:Hatfield Moors
ORGANIZER;CN="Liz Kent":MAILTO:trxie@hotmail.co.uk
END:VEVENT
END:VCALENDAR