BEGIN:VCALENDAR
VERSION:2.0
PRODID:-//Sherwood Nordic Walking - ECPv6.15.12.2//NONSGML v1.0//EN
CALSCALE:GREGORIAN
METHOD:PUBLISH
X-ORIGINAL-URL:https://www.sherwoodnordicwalking.co.uk
X-WR-CALDESC:Events for Sherwood Nordic Walking
REFRESH-INTERVAL;VALUE=DURATION:PT1H
X-Robots-Tag:noindex
X-PUBLISHED-TTL:PT1H
BEGIN:VTIMEZONE
TZID:Europe/London
BEGIN:DAYLIGHT
TZOFFSETFROM:+0000
TZOFFSETTO:+0100
TZNAME:BST
DTSTART:20220327T010000
END:DAYLIGHT
BEGIN:STANDARD
TZOFFSETFROM:+0100
TZOFFSETTO:+0000
TZNAME:GMT
DTSTART:20221030T010000
END:STANDARD
BEGIN:DAYLIGHT
TZOFFSETFROM:+0000
TZOFFSETTO:+0100
TZNAME:BST
DTSTART:20230326T010000
END:DAYLIGHT
BEGIN:STANDARD
TZOFFSETFROM:+0100
TZOFFSETTO:+0000
TZNAME:GMT
DTSTART:20231029T010000
END:STANDARD
BEGIN:DAYLIGHT
TZOFFSETFROM:+0000
TZOFFSETTO:+0100
TZNAME:BST
DTSTART:20240331T010000
END:DAYLIGHT
BEGIN:STANDARD
TZOFFSETFROM:+0100
TZOFFSETTO:+0000
TZNAME:GMT
DTSTART:20241027T010000
END:STANDARD
END:VTIMEZONE
BEGIN:VEVENT
DTSTART;TZID=Europe/London:20230923T100000
DTEND;TZID=Europe/London:20230923T120000
DTSTAMP:20260423T175747
CREATED:20230906T112423Z
LAST-MODIFIED:20230921T124714Z
UID:10001652-1695463200-1695470400@www.sherwoodnordicwalking.co.uk
SUMMARY:Saturday adventure with Elaine - Roche Abbey
DESCRIPTION:Saturday adventures are back and at the more reasonable time of 10am! \nThis week your adventure will begin at Laughton-en-le-Morthen village hall. You will follow rolling hills\, peaceful woodland and finally arrive at the mysterious ruins of Roche Abbey. \nThere is a steep section into and out of the woods. \nThere is a delightful cafe nearby called Leger Lakes and it is on the way back to the carpark. \nDistance: 4.5 miles \nAscent: 512 ft \n\nLATE CANCELLATION POLICY: Sherwood Nordic Walking has a late cancellation policy whereby we require 24 hours’ notice for cancelling a walk. A refund minus 50p booking fee may be issued up until this time but will be dependent on the cancelling client making contact with Tracy.  \nThank you\, \nTracy Hall \n07891932782 
URL:https://www.sherwoodnordicwalking.co.uk/walks/saturday-adventure-with-elaine-roche-abbey/
LOCATION:Laughton-en-le-Morthen Village Hall\, Firbeck Avenue\, Laughton-en-le-morthen\, S25 1YD
CATEGORIES:Laughton
ORGANIZER;CN="Elaine Rockcliffe":MAILTO:elrockcliffe@btinternet.com
END:VEVENT
END:VCALENDAR