BEGIN:VCALENDAR
VERSION:2.0
PRODID:-//Sherwood Nordic Walking - ECPv6.15.12.2//NONSGML v1.0//EN
CALSCALE:GREGORIAN
METHOD:PUBLISH
X-WR-CALNAME:Sherwood Nordic Walking
X-ORIGINAL-URL:https://www.sherwoodnordicwalking.co.uk
X-WR-CALDESC:Events for Sherwood Nordic Walking
REFRESH-INTERVAL;VALUE=DURATION:PT1H
X-Robots-Tag:noindex
X-PUBLISHED-TTL:PT1H
BEGIN:VTIMEZONE
TZID:Europe/London
BEGIN:DAYLIGHT
TZOFFSETFROM:+0000
TZOFFSETTO:+0100
TZNAME:BST
DTSTART:20220327T010000
END:DAYLIGHT
BEGIN:STANDARD
TZOFFSETFROM:+0100
TZOFFSETTO:+0000
TZNAME:GMT
DTSTART:20221030T010000
END:STANDARD
BEGIN:DAYLIGHT
TZOFFSETFROM:+0000
TZOFFSETTO:+0100
TZNAME:BST
DTSTART:20230326T010000
END:DAYLIGHT
BEGIN:STANDARD
TZOFFSETFROM:+0100
TZOFFSETTO:+0000
TZNAME:GMT
DTSTART:20231029T010000
END:STANDARD
BEGIN:DAYLIGHT
TZOFFSETFROM:+0000
TZOFFSETTO:+0100
TZNAME:BST
DTSTART:20240331T010000
END:DAYLIGHT
BEGIN:STANDARD
TZOFFSETFROM:+0100
TZOFFSETTO:+0000
TZNAME:GMT
DTSTART:20241027T010000
END:STANDARD
END:VTIMEZONE
BEGIN:VEVENT
DTSTART;TZID=Europe/London:20230925T100000
DTEND;TZID=Europe/London:20230925T120000
DTSTAMP:20260423T131024
CREATED:20230403T164755Z
LAST-MODIFIED:20230403T164755Z
UID:10001632-1695636000-1695643200@www.sherwoodnordicwalking.co.uk
SUMMARY:Adventure from Langold to Letwell
DESCRIPTION:Join us for a walk with a view! Langold Country Park is often overlooked\, but on our Adventure Walks we have discovered there is more there than just the lake. Ancient woodland and multiple pathways leading to hidden gems and spectacular views \nToday we will venture across open fields and mini bridges for this Adventure walk to the conservation village of Letwell. There are some long\, straight paths on this walk\, ideal for a bit of striding out and getting a workout. \nWe will meet at the Langold Café Carpark. \nDistance: 4-5 miles \nStiles: 1 \n  \nLATE CANCELLATION POLICY: Sherwood Nordic Walking has a late cancellation policy whereby we require 24 hours’ notice for cancelling a walk. A refund minus 50p booking fee will be issued up until this time but will be dependent on the cancelling client making contact with Tracy before cancelling.  \nThank you\, \nTracy  \n07891932782 
URL:https://www.sherwoodnordicwalking.co.uk/walks/adventure-from-langold-to-letwell/
LOCATION:Langold Country Park Cafe Carpark\, Langold Country Park\, Langold\, S81 9QW\, United Kingdom
CATEGORIES:Langold Country Park
END:VEVENT
END:VCALENDAR