BEGIN:VCALENDAR
VERSION:2.0
PRODID:-//Sherwood Nordic Walking - ECPv6.15.12.2//NONSGML v1.0//EN
CALSCALE:GREGORIAN
METHOD:PUBLISH
X-WR-CALNAME:Sherwood Nordic Walking
X-ORIGINAL-URL:https://www.sherwoodnordicwalking.co.uk
X-WR-CALDESC:Events for Sherwood Nordic Walking
REFRESH-INTERVAL;VALUE=DURATION:PT1H
X-Robots-Tag:noindex
X-PUBLISHED-TTL:PT1H
BEGIN:VTIMEZONE
TZID:Europe/London
BEGIN:DAYLIGHT
TZOFFSETFROM:+0000
TZOFFSETTO:+0100
TZNAME:BST
DTSTART:20220327T010000
END:DAYLIGHT
BEGIN:STANDARD
TZOFFSETFROM:+0100
TZOFFSETTO:+0000
TZNAME:GMT
DTSTART:20221030T010000
END:STANDARD
BEGIN:DAYLIGHT
TZOFFSETFROM:+0000
TZOFFSETTO:+0100
TZNAME:BST
DTSTART:20230326T010000
END:DAYLIGHT
BEGIN:STANDARD
TZOFFSETFROM:+0100
TZOFFSETTO:+0000
TZNAME:GMT
DTSTART:20231029T010000
END:STANDARD
BEGIN:DAYLIGHT
TZOFFSETFROM:+0000
TZOFFSETTO:+0100
TZNAME:BST
DTSTART:20240331T010000
END:DAYLIGHT
BEGIN:STANDARD
TZOFFSETFROM:+0100
TZOFFSETTO:+0000
TZNAME:GMT
DTSTART:20241027T010000
END:STANDARD
END:VTIMEZONE
BEGIN:VEVENT
DTSTART;TZID=Europe/London:20230927T093000
DTEND;TZID=Europe/London:20230927T103000
DTSTAMP:20260423T131010
CREATED:20230825T165305Z
LAST-MODIFIED:20230825T165415Z
UID:10001651-1695807000-1695810600@www.sherwoodnordicwalking.co.uk
SUMMARY:Thoresby Park Beginner's Training 3/3 and Refresher Walk
DESCRIPTION:To consolidate your learning from Sessions 1 and 2\, Session 3 enables you to practise what you have learned so far\, and to perfect your technique. \nThis session is free for those who have completed weeks 1 and 2\, and £6 for those who are coming along for a beginner’s refresher walk. \n  \nPoles are available to use free of charge. \n  \nLATE CANCELLATION POLICY: Sherwood Nordic Walking has a late cancellation policy whereby we require 24 hours’ notice for cancelling a walk. A transfer to another course may be issued up until this time but will be dependent on the cancelling client making contact with Tracy.  \nThank you\, \nTracy Hall \n07891932782
URL:https://www.sherwoodnordicwalking.co.uk/walks/thoresby-park-beginners-training-walk/
LOCATION:Thoresby Park\, The Courtyard\, Thoresby Park\, Newark\, NG22 9EP\, United Kingdom
CATEGORIES:Thoresby Park
END:VEVENT
BEGIN:VEVENT
DTSTART;TZID=Europe/London:20230927T100000
DTEND;TZID=Europe/London:20230927T120000
DTSTAMP:20260423T131010
CREATED:20230312T165652Z
LAST-MODIFIED:20230926T170219Z
UID:10001328-1695808800-1695816000@www.sherwoodnordicwalking.co.uk
SUMMARY:*Slower* Adventure in Everton with Tracy
DESCRIPTION:Tricia and Liz are not available this week so your Instructor will be Tracy. Technique can be worked on as well as enjoying a 3.5 – 4.5 mile Adventure in the village of Everton. \n\n\nThis delightful route takes us along open countryside\, along the river Idle and through woodland. Beginning and ending at The Bean Scene there is ample parking! We can stop for a hot drink and snacks/lunch at the end. \n\n\n  \n\n\n3.5 – 4.5 miles \n\n\n249ft ascent (max) \n  \nLATE CANCELLATION POLICY: Sherwood Nordic Walking has a late cancellation policy whereby we require 24 hours’ notice for cancelling a walk. A refund minus 50p booking fee will be issued up until this time but will be dependent on the cancelling client making contact with Tracy\, Liz or Tricia before cancelling.  \nThank you\, \nTracy\, Liz and Tricia \n07891932782\, 07989616423 and 07879344930
URL:https://www.sherwoodnordicwalking.co.uk/walks/walk-leader-slower-adventure-in-everton-14/
LOCATION:Bean Scene\, Gainsborough Road\, Everton\, DN10 5BW
CATEGORIES:Everton
ORGANIZER;CN="Tricia Scott":MAILTO:triciascott@hotmail.co.uk
END:VEVENT
END:VCALENDAR