BEGIN:VCALENDAR
VERSION:2.0
PRODID:-//Sherwood Nordic Walking - ECPv6.15.12.2//NONSGML v1.0//EN
CALSCALE:GREGORIAN
METHOD:PUBLISH
X-WR-CALNAME:Sherwood Nordic Walking
X-ORIGINAL-URL:https://www.sherwoodnordicwalking.co.uk
X-WR-CALDESC:Events for Sherwood Nordic Walking
REFRESH-INTERVAL;VALUE=DURATION:PT1H
X-Robots-Tag:noindex
X-PUBLISHED-TTL:PT1H
BEGIN:VTIMEZONE
TZID:Europe/London
BEGIN:DAYLIGHT
TZOFFSETFROM:+0000
TZOFFSETTO:+0100
TZNAME:BST
DTSTART:20220327T010000
END:DAYLIGHT
BEGIN:STANDARD
TZOFFSETFROM:+0100
TZOFFSETTO:+0000
TZNAME:GMT
DTSTART:20221030T010000
END:STANDARD
BEGIN:DAYLIGHT
TZOFFSETFROM:+0000
TZOFFSETTO:+0100
TZNAME:BST
DTSTART:20230326T010000
END:DAYLIGHT
BEGIN:STANDARD
TZOFFSETFROM:+0100
TZOFFSETTO:+0000
TZNAME:GMT
DTSTART:20231029T010000
END:STANDARD
BEGIN:DAYLIGHT
TZOFFSETFROM:+0000
TZOFFSETTO:+0100
TZNAME:BST
DTSTART:20240331T010000
END:DAYLIGHT
BEGIN:STANDARD
TZOFFSETFROM:+0100
TZOFFSETTO:+0000
TZNAME:GMT
DTSTART:20241027T010000
END:STANDARD
END:VTIMEZONE
BEGIN:VEVENT
DTSTART;TZID=Europe/London:20231004T093000
DTEND;TZID=Europe/London:20231004T110000
DTSTAMP:20260423T093314
CREATED:20230912T202514Z
LAST-MODIFIED:20230912T202514Z
UID:10001692-1696411800-1696417200@www.sherwoodnordicwalking.co.uk
SUMMARY:Thoresby Park Beginner's Training 1/3
DESCRIPTION:Would you like to learn how to nordic walk? This 3-part course will teach you all you need to know to enjoy the International Nordic Walking (INWA) technique. \nSession 1 introduces you to the nordic walking poles and their features before moving on to learn the few basic steps of the INWA 10-step technique. We will cover posture\, pole position\, arm swing and forward propulsion. \nSession 2 will take place on Wednesday 11th October 9.30am. You do not need to book these sessions separately. The payment for Session 1 is for all three sessions. \nSession 3 takes place on Wednesday 18th October 9.30am and is free for those who have completed weeks 1 and 2\, and £6 for those who are coming along for a beginner’s walk. \nPoles are available to use free of charge. \nYou will need to complete a PAR-Q health questionnaire prior to taking part. I will send this to you a few days before the course – please check your junk email boxes. \n  \nLATE CANCELLATION POLICY: Sherwood Nordic Walking has a late cancellation policy whereby we require 24 hours’ notice for cancelling a walk. A transfer to another course may be issued up until this time but will be dependent on the cancelling client making contact with Tracy.  \nThank you\, \nTracy Hall \n07891932782
URL:https://www.sherwoodnordicwalking.co.uk/walks/thoresby-park-beginners-training-1-3-11/
LOCATION:Thoresby Park\, The Courtyard\, Thoresby Park\, Newark\, NG22 9EP\, United Kingdom
CATEGORIES:Thoresby Park
END:VEVENT
BEGIN:VEVENT
DTSTART;TZID=Europe/London:20231004T100000
DTEND;TZID=Europe/London:20231004T120000
DTSTAMP:20260423T093314
CREATED:20230312T183100Z
LAST-MODIFIED:20230312T183100Z
UID:10001558-1696413600-1696420800@www.sherwoodnordicwalking.co.uk
SUMMARY:Walk Leader *slower* Adventure at Idle Valley Nature Reserve
DESCRIPTION:Welcome to the Wednesday Walk Leader Adventure with Tricia and Liz. \n\n\nTricia will warm you all up before taking you on a steady 3.5 – 4.5 mile nordic walk around the spectacular Idle Valley Nature Reserve. \n\n\nStarting and ending at the main carpark which is currently donation inside only. The cafe is open! \n\n\nDistance: 3.5 – 4.5 miles \nLATE CANCELLATION POLICY: Sherwood Nordic Walking has a late cancellation policy whereby we require 24 hours’ notice for cancelling a walk. A refund minus 50p booking fee will be issued up until this time but will be dependent on the cancelling client making contact with Tracy\, Liz or Tricia before cancelling.  \nThank you\, \nTracy\, Liz and Tricia \n07891932782\, 07989616423 and 07879344930
URL:https://www.sherwoodnordicwalking.co.uk/walks/walk-leader-slower-adventure-at-idle-valley-nature-reserve-19/
LOCATION:Idle Valley Nature Reserve\, North Road\, Retford\, DN22 8RQ
CATEGORIES:Idle Valley Nature Reserve
ORGANIZER;CN="Liz Kent":MAILTO:trxie@hotmail.co.uk
END:VEVENT
END:VCALENDAR