BEGIN:VCALENDAR
VERSION:2.0
PRODID:-//Sherwood Nordic Walking - ECPv6.15.12.2//NONSGML v1.0//EN
CALSCALE:GREGORIAN
METHOD:PUBLISH
X-ORIGINAL-URL:https://www.sherwoodnordicwalking.co.uk
X-WR-CALDESC:Events for Sherwood Nordic Walking
REFRESH-INTERVAL;VALUE=DURATION:PT1H
X-Robots-Tag:noindex
X-PUBLISHED-TTL:PT1H
BEGIN:VTIMEZONE
TZID:Europe/London
BEGIN:DAYLIGHT
TZOFFSETFROM:+0000
TZOFFSETTO:+0100
TZNAME:BST
DTSTART:20220327T010000
END:DAYLIGHT
BEGIN:STANDARD
TZOFFSETFROM:+0100
TZOFFSETTO:+0000
TZNAME:GMT
DTSTART:20221030T010000
END:STANDARD
BEGIN:DAYLIGHT
TZOFFSETFROM:+0000
TZOFFSETTO:+0100
TZNAME:BST
DTSTART:20230326T010000
END:DAYLIGHT
BEGIN:STANDARD
TZOFFSETFROM:+0100
TZOFFSETTO:+0000
TZNAME:GMT
DTSTART:20231029T010000
END:STANDARD
BEGIN:DAYLIGHT
TZOFFSETFROM:+0000
TZOFFSETTO:+0100
TZNAME:BST
DTSTART:20240331T010000
END:DAYLIGHT
BEGIN:STANDARD
TZOFFSETFROM:+0100
TZOFFSETTO:+0000
TZNAME:GMT
DTSTART:20241027T010000
END:STANDARD
END:VTIMEZONE
BEGIN:VEVENT
DTSTART;TZID=Europe/London:20231009T100000
DTEND;TZID=Europe/London:20231009T123000
DTSTAMP:20260421T095119
CREATED:20230817T205651Z
LAST-MODIFIED:20230817T205651Z
UID:10001646-1696845600-1696854600@www.sherwoodnordicwalking.co.uk
SUMMARY:Monday Adventure Kilton to Osberton 10k
DESCRIPTION:This is a longer route than our other nordic walks\, so a little bit of a challenge to kick start the week! And a great warm up for the Thoresby Leaf Kick! \nWe start this walk at the public car park near Kilton Golf course in Worksop\, also known as Bassetlaw Showground. We will venture towards the Osberton estate where we will catch a glimpse of Osberton Hall and along Hundred Acre Woods. \nThe Kilton Forest Golf Club isn’t open for refreshments on a Monday\, so bring your own drink and snack for the end. \nDistance: 6.2 miles / 10k \n  \nLATE CANCELLATION POLICY: Sherwood Nordic Walking has a late cancellation policy whereby we require 24 hours’ notice for cancelling a walk. A credit voucher will be issued up until this time but will be dependent on the cancelling client making contact with Tracy before cancelling.  \nThank you\, \nTracy Hall \n07891932782
URL:https://www.sherwoodnordicwalking.co.uk/walks/monday-adventure-kilton-to-osberton-10k-2/
LOCATION:Kilton (Bassetlaw Showground)\, Blyth Road\, Worksop\, s81 0NZ
CATEGORIES:Osberton
END:VEVENT
END:VCALENDAR