BEGIN:VCALENDAR
VERSION:2.0
PRODID:-//Sherwood Nordic Walking - ECPv6.15.12.2//NONSGML v1.0//EN
CALSCALE:GREGORIAN
METHOD:PUBLISH
X-ORIGINAL-URL:https://www.sherwoodnordicwalking.co.uk
X-WR-CALDESC:Events for Sherwood Nordic Walking
REFRESH-INTERVAL;VALUE=DURATION:PT1H
X-Robots-Tag:noindex
X-PUBLISHED-TTL:PT1H
BEGIN:VTIMEZONE
TZID:Europe/London
BEGIN:DAYLIGHT
TZOFFSETFROM:+0000
TZOFFSETTO:+0100
TZNAME:BST
DTSTART:20220327T010000
END:DAYLIGHT
BEGIN:STANDARD
TZOFFSETFROM:+0100
TZOFFSETTO:+0000
TZNAME:GMT
DTSTART:20221030T010000
END:STANDARD
BEGIN:DAYLIGHT
TZOFFSETFROM:+0000
TZOFFSETTO:+0100
TZNAME:BST
DTSTART:20230326T010000
END:DAYLIGHT
BEGIN:STANDARD
TZOFFSETFROM:+0100
TZOFFSETTO:+0000
TZNAME:GMT
DTSTART:20231029T010000
END:STANDARD
BEGIN:DAYLIGHT
TZOFFSETFROM:+0000
TZOFFSETTO:+0100
TZNAME:BST
DTSTART:20240331T010000
END:DAYLIGHT
BEGIN:STANDARD
TZOFFSETFROM:+0100
TZOFFSETTO:+0000
TZNAME:GMT
DTSTART:20241027T010000
END:STANDARD
END:VTIMEZONE
BEGIN:VEVENT
DTSTART;TZID=Europe/London:20231018T093000
DTEND;TZID=Europe/London:20231018T103000
DTSTAMP:20260425T144934
CREATED:20230912T202949Z
LAST-MODIFIED:20230912T202949Z
UID:10001694-1697621400-1697625000@www.sherwoodnordicwalking.co.uk
SUMMARY:Thoresby Park Beginner's Training 3/3 and Refresher Walk
DESCRIPTION:To consolidate your learning from Sessions 1 and 2\, Session 3 enables you to practise what you have learned so far\, and to perfect your technique. \nThis session is free for those who have completed weeks 1 and 2\, and £6 for those who are coming along for a beginner’s refresher walk. \n  \nPoles are available to use free of charge. \n  \nLATE CANCELLATION POLICY: Sherwood Nordic Walking has a late cancellation policy whereby we require 24 hours’ notice for cancelling a walk. A transfer to another course may be issued up until this time but will be dependent on the cancelling client making contact with Tracy.  \nThank you\, \nTracy Hall \n07891932782
URL:https://www.sherwoodnordicwalking.co.uk/walks/thoresby-park-beginners-training-3-3-and-refresher-walk/
LOCATION:Thoresby Park\, The Courtyard\, Thoresby Park\, Newark\, NG22 9EP\, United Kingdom
CATEGORIES:Thoresby Park
END:VEVENT
BEGIN:VEVENT
DTSTART;TZID=Europe/London:20231018T100000
DTEND;TZID=Europe/London:20231018T120000
DTSTAMP:20260425T144934
CREATED:20230313T173752Z
LAST-MODIFIED:20230313T173752Z
UID:10001568-1697623200-1697630400@www.sherwoodnordicwalking.co.uk
SUMMARY:Walk Leader *slower* Adventure to Clumber Park
DESCRIPTION:Welcome to Wednesday Walk Leader Adventure with Tricia and Liz. \n\n\nTricia will warm you all up before taking you on a steady 3.5 – 4.5 mile nordic walk through Clumber Park. \n\n\nPlease park by the Norman Gates\, opposite the Clumber Park Hotel. \n\n\nDistance: 3.5 – 4.5 miles \nLATE CANCELLATION POLICY: Sherwood Nordic Walking has a late cancellation policy whereby we require 24 hours’ notice for cancelling a walk. A refund minus 50p booking fee will be issued up until this time but will be dependent on the cancelling client making contact with Tracy\, Liz or Tricia before cancelling.  \nThank you\, \nTracy\, Liz and Tricia \n07891932782\, 07989616423 and 07879344930
URL:https://www.sherwoodnordicwalking.co.uk/walks/walk-leader-slower-adventure-to-clumber-park-16/
LOCATION:Normanton Gates\, Clumber Park\, Normanton Gates\, Clumber Park\, S80 3PA
CATEGORIES:Clumber Park Hotel
ORGANIZER;CN="Liz Kent":MAILTO:trxie@hotmail.co.uk
END:VEVENT
END:VCALENDAR