BEGIN:VCALENDAR
VERSION:2.0
PRODID:-//Sherwood Nordic Walking - ECPv6.15.12.2//NONSGML v1.0//EN
CALSCALE:GREGORIAN
METHOD:PUBLISH
X-WR-CALNAME:Sherwood Nordic Walking
X-ORIGINAL-URL:https://www.sherwoodnordicwalking.co.uk
X-WR-CALDESC:Events for Sherwood Nordic Walking
REFRESH-INTERVAL;VALUE=DURATION:PT1H
X-Robots-Tag:noindex
X-PUBLISHED-TTL:PT1H
BEGIN:VTIMEZONE
TZID:Europe/London
BEGIN:DAYLIGHT
TZOFFSETFROM:+0000
TZOFFSETTO:+0100
TZNAME:BST
DTSTART:20220327T010000
END:DAYLIGHT
BEGIN:STANDARD
TZOFFSETFROM:+0100
TZOFFSETTO:+0000
TZNAME:GMT
DTSTART:20221030T010000
END:STANDARD
BEGIN:DAYLIGHT
TZOFFSETFROM:+0000
TZOFFSETTO:+0100
TZNAME:BST
DTSTART:20230326T010000
END:DAYLIGHT
BEGIN:STANDARD
TZOFFSETFROM:+0100
TZOFFSETTO:+0000
TZNAME:GMT
DTSTART:20231029T010000
END:STANDARD
BEGIN:DAYLIGHT
TZOFFSETFROM:+0000
TZOFFSETTO:+0100
TZNAME:BST
DTSTART:20240331T010000
END:DAYLIGHT
BEGIN:STANDARD
TZOFFSETFROM:+0100
TZOFFSETTO:+0000
TZNAME:GMT
DTSTART:20241027T010000
END:STANDARD
END:VTIMEZONE
BEGIN:VEVENT
DTSTART;TZID=Europe/London:20231020T100000
DTEND;TZID=Europe/London:20231020T140000
DTSTAMP:20260421T114237
CREATED:20230915T165155Z
LAST-MODIFIED:20231019T152839Z
UID:10001698-1697796000-1697810400@www.sherwoodnordicwalking.co.uk
SUMMARY:*Cancelled*Friday Special Welbeck\, Creswell and the Portland Collection
DESCRIPTION:This month our Friday special takes us over to Welbeck. \nBeginning at the Dukeries garden centre carpark\, please meet us on the lawn area for our warm up. \nWe will venture over to Creswell Crags and Creswell\, before looping back. \nThere is some steep terrain and also a stile to climb over. There is also a field that sometimes has cows in it. We will proceed with caution! \n  \nFollowing the walk we will go along and see the Portland Collection – fabulous 17th century paintings\, a few by Van Dyck\, as well as family silverware from the Dukes of Portland. There is also an exhibition in the Harley Gallery\, currently entitled ‘Tunnel Vision’ and has interesting displays about the 5th Duke’s quirky ways\, including his fascinating network of tunnels. \nA late lunch will be available either in the Harley Café or the garden centre café\, or you can browse the fabulous award-winning farm shop and buy some goodies to take home. \n  \nDistance: 4.6 mile \nLATE CANCELLATION POLICY: Sherwood Nordic Walking has a late cancellation policy whereby we require 24 hours’ notice for cancelling a walk. A refund minus 50p booking fee may be issued up until this time but will be dependent on the cancelling client making contact with Tracy.  \nThank you\, \nTracy Hall \n07891932782  \n 
URL:https://www.sherwoodnordicwalking.co.uk/walks/friday-special-welbeck-creswell-and-the-portland-collection/
LOCATION:Creswell Crags\, Mansfield Road\, Worksop\, S80 3LT
CATEGORIES:Creswell Crags
END:VEVENT
END:VCALENDAR