BEGIN:VCALENDAR
VERSION:2.0
PRODID:-//Sherwood Nordic Walking - ECPv6.15.12.2//NONSGML v1.0//EN
CALSCALE:GREGORIAN
METHOD:PUBLISH
X-ORIGINAL-URL:https://www.sherwoodnordicwalking.co.uk
X-WR-CALDESC:Events for Sherwood Nordic Walking
REFRESH-INTERVAL;VALUE=DURATION:PT1H
X-Robots-Tag:noindex
X-PUBLISHED-TTL:PT1H
BEGIN:VTIMEZONE
TZID:Europe/London
BEGIN:DAYLIGHT
TZOFFSETFROM:+0000
TZOFFSETTO:+0100
TZNAME:BST
DTSTART:20220327T010000
END:DAYLIGHT
BEGIN:STANDARD
TZOFFSETFROM:+0100
TZOFFSETTO:+0000
TZNAME:GMT
DTSTART:20221030T010000
END:STANDARD
BEGIN:DAYLIGHT
TZOFFSETFROM:+0000
TZOFFSETTO:+0100
TZNAME:BST
DTSTART:20230326T010000
END:DAYLIGHT
BEGIN:STANDARD
TZOFFSETFROM:+0100
TZOFFSETTO:+0000
TZNAME:GMT
DTSTART:20231029T010000
END:STANDARD
BEGIN:DAYLIGHT
TZOFFSETFROM:+0000
TZOFFSETTO:+0100
TZNAME:BST
DTSTART:20240331T010000
END:DAYLIGHT
BEGIN:STANDARD
TZOFFSETFROM:+0100
TZOFFSETTO:+0000
TZNAME:GMT
DTSTART:20241027T010000
END:STANDARD
END:VTIMEZONE
BEGIN:VEVENT
DTSTART;TZID=Europe/London:20231023T100000
DTEND;TZID=Europe/London:20231023T120000
DTSTAMP:20260421T114718
CREATED:20230911T194539Z
LAST-MODIFIED:20230911T194615Z
UID:10001663-1698055200-1698062400@www.sherwoodnordicwalking.co.uk
SUMMARY:Monday adventure EVERTON and the Barrow Hills
DESCRIPTION:Today’s nordic Adventure begins at The Yurt in Everton as The Bean Scene is closed on a Monday. \n\n\nWe will will make our way through the village and along quiet tracks and paths until we reach Harwell and the gateway to the Barrow Hills. This is a varied route with some gradient and uneven terrain to challenge balance and stamina. \n\n\n  \n\n\nAscent: 230ft \n\n\nDistance: 4.3 miles \nLATE CANCELLATION POLICY: Sherwood Nordic Walking has a late cancellation policy whereby we require 24 hours’ notice for cancelling a walk. A refund minus 50p booking fee may be issued up until this time but will be dependent on the cancelling client making contact with Tracy.  \nThank you\, \nTracy Hall \n07891932782 
URL:https://www.sherwoodnordicwalking.co.uk/walks/everton-and-the-barrow-hills-2/
LOCATION:The Yurt\, The Yurt\, Everton\, https://sogoodityurts.co.uk\, DN10 5BP
CATEGORIES:Everton
END:VEVENT
END:VCALENDAR