BEGIN:VCALENDAR
VERSION:2.0
PRODID:-//Sherwood Nordic Walking - ECPv6.15.12.2//NONSGML v1.0//EN
CALSCALE:GREGORIAN
METHOD:PUBLISH
X-WR-CALNAME:Sherwood Nordic Walking
X-ORIGINAL-URL:https://www.sherwoodnordicwalking.co.uk
X-WR-CALDESC:Events for Sherwood Nordic Walking
REFRESH-INTERVAL;VALUE=DURATION:PT1H
X-Robots-Tag:noindex
X-PUBLISHED-TTL:PT1H
BEGIN:VTIMEZONE
TZID:Europe/London
BEGIN:DAYLIGHT
TZOFFSETFROM:+0000
TZOFFSETTO:+0100
TZNAME:BST
DTSTART:20220327T010000
END:DAYLIGHT
BEGIN:STANDARD
TZOFFSETFROM:+0100
TZOFFSETTO:+0000
TZNAME:GMT
DTSTART:20221030T010000
END:STANDARD
BEGIN:DAYLIGHT
TZOFFSETFROM:+0000
TZOFFSETTO:+0100
TZNAME:BST
DTSTART:20230326T010000
END:DAYLIGHT
BEGIN:STANDARD
TZOFFSETFROM:+0100
TZOFFSETTO:+0000
TZNAME:GMT
DTSTART:20231029T010000
END:STANDARD
BEGIN:DAYLIGHT
TZOFFSETFROM:+0000
TZOFFSETTO:+0100
TZNAME:BST
DTSTART:20240331T010000
END:DAYLIGHT
BEGIN:STANDARD
TZOFFSETFROM:+0100
TZOFFSETTO:+0000
TZNAME:GMT
DTSTART:20241027T010000
END:STANDARD
END:VTIMEZONE
BEGIN:VEVENT
DTSTART;TZID=Europe/London:20231102T100000
DTEND;TZID=Europe/London:20231102T120000
DTSTAMP:20260419T130136
CREATED:20230911T200147Z
LAST-MODIFIED:20230911T200147Z
UID:10001668-1698919200-1698926400@www.sherwoodnordicwalking.co.uk
SUMMARY:Adventure from Clumber Park Hotel
DESCRIPTION:Whilst our regular Thursdays at Clumber Park are on hold for the half term holidays\, why not have a go at this alternative session from the Clumber Park Hotel? \nSherwood Nordic Walking is visiting Clumber Park. With over 3\,800 acres of woods\, open heath and rolling farmland there are many walks to explore. This week we are starting our adventure from the Clumber Park Hotel carpark before crossing over the road and heading towards Hardwick Village. \nWe have permission to park at the Clumber Hotel carpark. Parking is free. The hotel will be open for the facilities and a drink/snack post walk. \n  \nLATE CANCELLATION POLICY: Sherwood Nordic Walking has a late cancellation policy whereby we require 24 hours’ notice for cancelling a walk. A credit voucher or a refund minus 50p booking fee may be issued up until this time but will be dependent on the cancelling client making contact with Tracy.  \nThank you\, \nTracy Hall \n07891932782
URL:https://www.sherwoodnordicwalking.co.uk/walks/adventure-from-clumber-park-hotel-2/
LOCATION:Clumber Park Hotel\, Clumber Park Hotel (Muthu)\, Worksop\, S80 3PA
CATEGORIES:Clumber Park Hotel
ORGANIZER;CN="Elaine Rockcliffe":MAILTO:elrockcliffe@btinternet.com
END:VEVENT
END:VCALENDAR