BEGIN:VCALENDAR
VERSION:2.0
PRODID:-//Sherwood Nordic Walking - ECPv6.15.12.2//NONSGML v1.0//EN
CALSCALE:GREGORIAN
METHOD:PUBLISH
X-WR-CALNAME:Sherwood Nordic Walking
X-ORIGINAL-URL:https://www.sherwoodnordicwalking.co.uk
X-WR-CALDESC:Events for Sherwood Nordic Walking
REFRESH-INTERVAL;VALUE=DURATION:PT1H
X-Robots-Tag:noindex
X-PUBLISHED-TTL:PT1H
BEGIN:VTIMEZONE
TZID:Europe/London
BEGIN:DAYLIGHT
TZOFFSETFROM:+0000
TZOFFSETTO:+0100
TZNAME:BST
DTSTART:20220327T010000
END:DAYLIGHT
BEGIN:STANDARD
TZOFFSETFROM:+0100
TZOFFSETTO:+0000
TZNAME:GMT
DTSTART:20221030T010000
END:STANDARD
BEGIN:DAYLIGHT
TZOFFSETFROM:+0000
TZOFFSETTO:+0100
TZNAME:BST
DTSTART:20230326T010000
END:DAYLIGHT
BEGIN:STANDARD
TZOFFSETFROM:+0100
TZOFFSETTO:+0000
TZNAME:GMT
DTSTART:20231029T010000
END:STANDARD
BEGIN:DAYLIGHT
TZOFFSETFROM:+0000
TZOFFSETTO:+0100
TZNAME:BST
DTSTART:20240331T010000
END:DAYLIGHT
BEGIN:STANDARD
TZOFFSETFROM:+0100
TZOFFSETTO:+0000
TZNAME:GMT
DTSTART:20241027T010000
END:STANDARD
END:VTIMEZONE
BEGIN:VEVENT
DTSTART;TZID=Europe/London:20231108T093000
DTEND;TZID=Europe/London:20231108T110000
DTSTAMP:20260421T100827
CREATED:20231001T102051Z
LAST-MODIFIED:20231030T132159Z
UID:10001699-1699435800-1699441200@www.sherwoodnordicwalking.co.uk
SUMMARY:Nordic Walking Master Class 1/3
DESCRIPTION:Following on from the British Nordic Walking conference Team Sherwood Nordic Walking are inspired and ready to teach you the best nordic walking technique and get the most out of the activities we offer. \nThis 3-part course is suitable for beginners and current members and will teach you all you need to know to enjoy the International Nordic Walking (INWA) technique. \nSession 1 introduces you to the nordic walking poles and their features before moving on to learn the few basic steps of the INWA 10-step technique. We will cover posture\, pole position and arm swing. \nSession 2 will take place on Wednesday 15th November 9.30am. You do not need to book these sessions separately. The payment for Session 1 is for all three sessions. \nSession 3 takes place on Wednesday 22nd November 9.30am. \nPoles are available to use free of charge but please bring your own if you have the correct equipment. \nNew beginners will need to complete a PAR-Q health questionnaire prior to taking part. I will send this to you a few days before the course – please check your junk email boxes. Existing members can let me know whether there are any updates to their health information. \n  \nLATE CANCELLATION POLICY: Sherwood Nordic Walking has a late cancellation policy whereby we require 24 hours’ notice for cancelling a walk. A transfer to another course may be issued up until this time but will be dependent on the cancelling client making contact with Tracy.  \nThank you\, \nTracy Hall \n07891932782
URL:https://www.sherwoodnordicwalking.co.uk/walks/nordic-walking-master-class-1-3/
LOCATION:Thoresby Park\, The Courtyard\, Thoresby Park\, Newark\, NG22 9EP\, United Kingdom
CATEGORIES:Thoresby Park
END:VEVENT
BEGIN:VEVENT
DTSTART;TZID=Europe/London:20231108T100000
DTEND;TZID=Europe/London:20231108T120000
DTSTAMP:20260421T100827
CREATED:20230912T181414Z
LAST-MODIFIED:20230912T181414Z
UID:10001671-1699437600-1699444800@www.sherwoodnordicwalking.co.uk
SUMMARY:Wednesday *slower* adventure from Langold Country Park
DESCRIPTION:Welcome to Wednesday Walk Leader Adventures with Tricia. \n\n\nTricia will warm you all up before taking you on a steady 3.5 – 4.5 mile nordic walk around from Langold Country Park\, towards Firbeck or Letwell and into Dyscar Woods or maybe over to Hodsock. The choice is dependent on ground conditions. \n\n\nThere is a free carpark at the entrance that is off the A60 and signposted with a CAFE sign\, if we decide to meet at the larger carpark we will let you know. \n\n\nDistance: 3.5 – 4.5 miles \nLATE CANCELLATION POLICY: Sherwood Nordic Walking has a late cancellation policy whereby we require 24 hours’ notice for cancelling a walk. A refund minus 50p booking fee will be issued up until this time but will be dependent on the cancelling client making contact with Tracy\, Liz or Tricia before cancelling.  \nThank you\, \nTracy and Tricia \n07891932782 and 07879344930
URL:https://www.sherwoodnordicwalking.co.uk/walks/wednesday-slower-adventure-from-langold-country-park/
LOCATION:Langold Country Park Cafe Carpark\, Langold Country Park\, Langold\, S81 9QW\, United Kingdom
CATEGORIES:Langold Country Park
ORGANIZER;CN="Tricia Scott":MAILTO:triciascott@hotmail.co.uk
END:VEVENT
END:VCALENDAR