BEGIN:VCALENDAR
VERSION:2.0
PRODID:-//Sherwood Nordic Walking - ECPv6.15.12.2//NONSGML v1.0//EN
CALSCALE:GREGORIAN
METHOD:PUBLISH
X-ORIGINAL-URL:https://www.sherwoodnordicwalking.co.uk
X-WR-CALDESC:Events for Sherwood Nordic Walking
REFRESH-INTERVAL;VALUE=DURATION:PT1H
X-Robots-Tag:noindex
X-PUBLISHED-TTL:PT1H
BEGIN:VTIMEZONE
TZID:Europe/London
BEGIN:DAYLIGHT
TZOFFSETFROM:+0000
TZOFFSETTO:+0100
TZNAME:BST
DTSTART:20220327T010000
END:DAYLIGHT
BEGIN:STANDARD
TZOFFSETFROM:+0100
TZOFFSETTO:+0000
TZNAME:GMT
DTSTART:20221030T010000
END:STANDARD
BEGIN:DAYLIGHT
TZOFFSETFROM:+0000
TZOFFSETTO:+0100
TZNAME:BST
DTSTART:20230326T010000
END:DAYLIGHT
BEGIN:STANDARD
TZOFFSETFROM:+0100
TZOFFSETTO:+0000
TZNAME:GMT
DTSTART:20231029T010000
END:STANDARD
BEGIN:DAYLIGHT
TZOFFSETFROM:+0000
TZOFFSETTO:+0100
TZNAME:BST
DTSTART:20240331T010000
END:DAYLIGHT
BEGIN:STANDARD
TZOFFSETFROM:+0100
TZOFFSETTO:+0000
TZNAME:GMT
DTSTART:20241027T010000
END:STANDARD
END:VTIMEZONE
BEGIN:VEVENT
DTSTART;TZID=Europe/London:20231201T100000
DTEND;TZID=Europe/London:20231201T140000
DTSTAMP:20260419T130234
CREATED:20230912T203308Z
LAST-MODIFIED:20231004T165353Z
UID:10001696-1701424800-1701439200@www.sherwoodnordicwalking.co.uk
SUMMARY:Friday Special - Thoresby Park\, Tucks Brewery and Courtyard Café
DESCRIPTION:This month’s Friday special is over at our original venue\, Thoresby Park. \nWe will start with a gentle nordic walk across the estate\, covering 3.5 – 4 miles. \nA beer tasting session has been arranged for us on our return at Tuck’s Brewery – the perfect opportunity to buy some Christmas beer! Taster trays are around £6 and you can have a mini glass of three different ales to sample. \nAt 1pm Thoresby Café are opening up their dining area for us to sit together and have some lunch\, or a drink afterwards. Please let me know in your booking whether you are staying for the café so that I can confirm numbers. \n  \n\nLATE CANCELLATION POLICY: Sherwood Nordic Walking has a late cancellation policy whereby we require 24 hours’ notice for cancelling a walk. A credit voucher or a refund minus 50p booking fee may be issued up until this time but will be dependent on the cancelling client making contact with Tracy.  \nThank you\, \nTracy Hall \n07891932782
URL:https://www.sherwoodnordicwalking.co.uk/walks/friday-special-tbc/
LOCATION:Thoresby Park\, The Courtyard\, Thoresby Park\, Newark\, NG22 9EP\, United Kingdom
CATEGORIES:Thoresby Park
END:VEVENT
END:VCALENDAR