BEGIN:VCALENDAR
VERSION:2.0
PRODID:-//Sherwood Nordic Walking - ECPv6.15.12.2//NONSGML v1.0//EN
CALSCALE:GREGORIAN
METHOD:PUBLISH
X-ORIGINAL-URL:https://www.sherwoodnordicwalking.co.uk
X-WR-CALDESC:Events for Sherwood Nordic Walking
REFRESH-INTERVAL;VALUE=DURATION:PT1H
X-Robots-Tag:noindex
X-PUBLISHED-TTL:PT1H
BEGIN:VTIMEZONE
TZID:Europe/London
BEGIN:DAYLIGHT
TZOFFSETFROM:+0000
TZOFFSETTO:+0100
TZNAME:BST
DTSTART:20220327T010000
END:DAYLIGHT
BEGIN:STANDARD
TZOFFSETFROM:+0100
TZOFFSETTO:+0000
TZNAME:GMT
DTSTART:20221030T010000
END:STANDARD
BEGIN:DAYLIGHT
TZOFFSETFROM:+0000
TZOFFSETTO:+0100
TZNAME:BST
DTSTART:20230326T010000
END:DAYLIGHT
BEGIN:STANDARD
TZOFFSETFROM:+0100
TZOFFSETTO:+0000
TZNAME:GMT
DTSTART:20231029T010000
END:STANDARD
BEGIN:DAYLIGHT
TZOFFSETFROM:+0000
TZOFFSETTO:+0100
TZNAME:BST
DTSTART:20240331T010000
END:DAYLIGHT
BEGIN:STANDARD
TZOFFSETFROM:+0100
TZOFFSETTO:+0000
TZNAME:GMT
DTSTART:20241027T010000
END:STANDARD
END:VTIMEZONE
BEGIN:VEVENT
DTSTART;TZID=Europe/London:20231204T100000
DTEND;TZID=Europe/London:20231204T120000
DTSTAMP:20260419T143528
CREATED:20230403T133407Z
LAST-MODIFIED:20231130T131315Z
UID:10001601-1701684000-1701691200@www.sherwoodnordicwalking.co.uk
SUMMARY:Adventure along the Canal
DESCRIPTION:We will meet at the Lock keeper Inn carpark off the A57 roundabout in Worksop (Sainsbury’s/McDonald’s roundabout). We will follow the Chesterfield canal through Shireoaks and on to Turners Wood. \nAfter crossing the railway we will follow the fields that take us back to the canal before heading back to our starting point. If we have time\, and we are feeling fit and fresh\, we can go up to the top of the pit tip for a good view of the beautiful Dukeries. \nDistance: 5-6 miles \nStiles: 2 \n  \nLATE CANCELLATION POLICY: Sherwood Nordic Walking has a late cancellation policy whereby we require 24 hours’ notice for cancelling a walk. A refund minus 50p booking fee will be issued up until this time but will be dependent on the cancelling client making contact with Tracy before cancelling.  \nThank you\, \nTracy Hall \n07891932782
URL:https://www.sherwoodnordicwalking.co.uk/walks/monday-along-the-canal/
LOCATION:The Lock keepers Inn\, The Lock keepers Inn\, Worksop\, S80 1TJ
CATEGORIES:Chesterfield Canal
END:VEVENT
END:VCALENDAR