BEGIN:VCALENDAR
VERSION:2.0
PRODID:-//Sherwood Nordic Walking - ECPv6.15.12.2//NONSGML v1.0//EN
CALSCALE:GREGORIAN
METHOD:PUBLISH
X-WR-CALNAME:Sherwood Nordic Walking
X-ORIGINAL-URL:https://www.sherwoodnordicwalking.co.uk
X-WR-CALDESC:Events for Sherwood Nordic Walking
REFRESH-INTERVAL;VALUE=DURATION:PT1H
X-Robots-Tag:noindex
X-PUBLISHED-TTL:PT1H
BEGIN:VTIMEZONE
TZID:Europe/London
BEGIN:DAYLIGHT
TZOFFSETFROM:+0000
TZOFFSETTO:+0100
TZNAME:BST
DTSTART:20220327T010000
END:DAYLIGHT
BEGIN:STANDARD
TZOFFSETFROM:+0100
TZOFFSETTO:+0000
TZNAME:GMT
DTSTART:20221030T010000
END:STANDARD
BEGIN:DAYLIGHT
TZOFFSETFROM:+0000
TZOFFSETTO:+0100
TZNAME:BST
DTSTART:20230326T010000
END:DAYLIGHT
BEGIN:STANDARD
TZOFFSETFROM:+0100
TZOFFSETTO:+0000
TZNAME:GMT
DTSTART:20231029T010000
END:STANDARD
BEGIN:DAYLIGHT
TZOFFSETFROM:+0000
TZOFFSETTO:+0100
TZNAME:BST
DTSTART:20240331T010000
END:DAYLIGHT
BEGIN:STANDARD
TZOFFSETFROM:+0100
TZOFFSETTO:+0000
TZNAME:GMT
DTSTART:20241027T010000
END:STANDARD
END:VTIMEZONE
BEGIN:VEVENT
DTSTART;TZID=Europe/London:20231206T100000
DTEND;TZID=Europe/London:20231206T120000
DTSTAMP:20260423T112006
CREATED:20230912T181604Z
LAST-MODIFIED:20230912T182200Z
UID:10001672-1701856800-1701864000@www.sherwoodnordicwalking.co.uk
SUMMARY:Walk Leader *slower* adventure from Langold Country Park
DESCRIPTION:Welcome to Wednesday Walk Leader Adventures with Tricia. \n\n\nTricia will warm you all up before taking you on a steady 3.5 – 4.5 mile nordic walk around from Langold Country Park\, towards Firbeck or Letwell and into Dyscar Woods or maybe over to Hodsock. The choice is dependent on ground conditions. \n\n\nThere is a free carpark at the entrance that is off the A60 and signposted with a CAFE sign\, if we decide to meet at the larger carpark we will let you know. \n\n\nDistance: 3.5 – 4.5 miles \nLATE CANCELLATION POLICY: Sherwood Nordic Walking has a late cancellation policy whereby we require 24 hours’ notice for cancelling a walk. A refund minus 50p booking fee will be issued up until this time but will be dependent on the cancelling client making contact with Tracy\, Liz or Tricia before cancelling.  \nThank you\, \nTracy and Tricia \n07891932782 and 07879344930
URL:https://www.sherwoodnordicwalking.co.uk/walks/wednesday-slower-adventure-from-langold-country-park-2/
LOCATION:Langold Country Park Cafe Carpark\, Langold Country Park\, Langold\, S81 9QW\, United Kingdom
CATEGORIES:Langold Country Park
END:VEVENT
END:VCALENDAR