BEGIN:VCALENDAR
VERSION:2.0
PRODID:-//Sherwood Nordic Walking - ECPv6.15.12.2//NONSGML v1.0//EN
CALSCALE:GREGORIAN
METHOD:PUBLISH
X-WR-CALNAME:Sherwood Nordic Walking
X-ORIGINAL-URL:https://www.sherwoodnordicwalking.co.uk
X-WR-CALDESC:Events for Sherwood Nordic Walking
REFRESH-INTERVAL;VALUE=DURATION:PT1H
X-Robots-Tag:noindex
X-PUBLISHED-TTL:PT1H
BEGIN:VTIMEZONE
TZID:Europe/London
BEGIN:DAYLIGHT
TZOFFSETFROM:+0000
TZOFFSETTO:+0100
TZNAME:BST
DTSTART:20220327T010000
END:DAYLIGHT
BEGIN:STANDARD
TZOFFSETFROM:+0100
TZOFFSETTO:+0000
TZNAME:GMT
DTSTART:20221030T010000
END:STANDARD
BEGIN:DAYLIGHT
TZOFFSETFROM:+0000
TZOFFSETTO:+0100
TZNAME:BST
DTSTART:20230326T010000
END:DAYLIGHT
BEGIN:STANDARD
TZOFFSETFROM:+0100
TZOFFSETTO:+0000
TZNAME:GMT
DTSTART:20231029T010000
END:STANDARD
BEGIN:DAYLIGHT
TZOFFSETFROM:+0000
TZOFFSETTO:+0100
TZNAME:BST
DTSTART:20240331T010000
END:DAYLIGHT
BEGIN:STANDARD
TZOFFSETFROM:+0100
TZOFFSETTO:+0000
TZNAME:GMT
DTSTART:20241027T010000
END:STANDARD
END:VTIMEZONE
BEGIN:VEVENT
DTSTART;TZID=Europe/London:20231209T100000
DTEND;TZID=Europe/London:20231209T120000
DTSTAMP:20260419T130239
CREATED:20230912T203227Z
LAST-MODIFIED:20231123T153610Z
UID:10001695-1702116000-1702123200@www.sherwoodnordicwalking.co.uk
SUMMARY:Saturday adventure with Elaine - Welbeck to Creswell Crags
DESCRIPTION:A great opportunity to do some Christmas shopping at the Welbeck farm shop\, the Harley gallery or the Dukeries garden centre! \nBeginning at The Dukeries (Notcutts) garden centre carpark. From the carpark we will begin by crossing over the main road. We will wind our way along a country lane and through open farmland until we reach the spectacular Creswell Crags. Another country lane leads us past some quarries before we head back towards Creswell Crags\, along the main road and back to the garden centre carpark. \nThere is some steep terrain and also a high stile to climb over. \nLunch is available at the Harley Gallery and also at the garden centre café. \nDistance: 4.6 miles \n  \n\nLATE CANCELLATION POLICY: Sherwood Nordic Walking has a late cancellation policy whereby we require 24 hours’ notice for cancelling a walk. A credit voucher or a refund minus 50p booking fee may be issued up until this time but will be dependent on the cancelling client making contact with Tracy.  \nThank you\, \nTracy Hall \n07891932782
URL:https://www.sherwoodnordicwalking.co.uk/walks/saturday-adventure-with-elaine-tbc/
LOCATION:Creswell Crags\, Mansfield Road\, Worksop\, S80 3LT
CATEGORIES:Creswell Crags
ORGANIZER;CN="Elaine Rockcliffe":MAILTO:elrockcliffe@btinternet.com
END:VEVENT
END:VCALENDAR