BEGIN:VCALENDAR
VERSION:2.0
PRODID:-//Sherwood Nordic Walking - ECPv6.15.12.2//NONSGML v1.0//EN
CALSCALE:GREGORIAN
METHOD:PUBLISH
X-ORIGINAL-URL:https://www.sherwoodnordicwalking.co.uk
X-WR-CALDESC:Events for Sherwood Nordic Walking
REFRESH-INTERVAL;VALUE=DURATION:PT1H
X-Robots-Tag:noindex
X-PUBLISHED-TTL:PT1H
BEGIN:VTIMEZONE
TZID:Europe/London
BEGIN:DAYLIGHT
TZOFFSETFROM:+0000
TZOFFSETTO:+0100
TZNAME:BST
DTSTART:20230326T010000
END:DAYLIGHT
BEGIN:STANDARD
TZOFFSETFROM:+0100
TZOFFSETTO:+0000
TZNAME:GMT
DTSTART:20231029T010000
END:STANDARD
BEGIN:DAYLIGHT
TZOFFSETFROM:+0000
TZOFFSETTO:+0100
TZNAME:BST
DTSTART:20240331T010000
END:DAYLIGHT
BEGIN:STANDARD
TZOFFSETFROM:+0100
TZOFFSETTO:+0000
TZNAME:GMT
DTSTART:20241027T010000
END:STANDARD
BEGIN:DAYLIGHT
TZOFFSETFROM:+0000
TZOFFSETTO:+0100
TZNAME:BST
DTSTART:20250330T010000
END:DAYLIGHT
BEGIN:STANDARD
TZOFFSETFROM:+0100
TZOFFSETTO:+0000
TZNAME:GMT
DTSTART:20251026T010000
END:STANDARD
END:VTIMEZONE
BEGIN:VEVENT
DTSTART;TZID=Europe/London:20240106T100000
DTEND;TZID=Europe/London:20240106T120000
DTSTAMP:20260419T142812
CREATED:20231215T091333Z
LAST-MODIFIED:20240105T182641Z
UID:10001844-1704535200-1704542400@www.sherwoodnordicwalking.co.uk
SUMMARY:Saturday adventure in Clumber Park
DESCRIPTION:Happy New Year! This is the first walk back for 2024 – Clumber Park from the Normanton Gates. \nThis Saturday adventure begins at the Normanton Gates\, opposite the Clumber Park Hotel. Park at the gates if you can\, otherwise parking is available at the hotel but crossing over the road can be tricky. \nElaine will lead you on this fabulous adventure across heathland and through woods. \nDistance: Approximately 4-5 miles \nPace: Moderate \nSpaces are limited on the Saturday nordic walks due to Walk Leader insurance and group management. With this in mind please note the cancellation policy. \nLATE CANCELLATION POLICY: Sherwood Nordic Walking has a late cancellation policy whereby we require 24 hours’ notice for cancelling a walk booking. No refunds can be issued however it may be possible to use the credit one time on a future session. This will be dependent on the cancelling client making contact with Tracy or Elaine. Refunds will only be issued if the session has been cancelled by the Instructor or Walk Leader. \nThank you\, \nTracy and Elaine \n07891932782 and 07827652795
URL:https://www.sherwoodnordicwalking.co.uk/walks/saturday-adventure-in-clumber-park/
LOCATION:Normanton Gates\, Clumber Park\, Normanton Gates\, Clumber Park\, S80 3PA
CATEGORIES:Normanton Gates
ORGANIZER;CN="Elaine Rockcliffe":MAILTO:elrockcliffe@btinternet.com
END:VEVENT
END:VCALENDAR