BEGIN:VCALENDAR
VERSION:2.0
PRODID:-//Sherwood Nordic Walking - ECPv6.15.12.2//NONSGML v1.0//EN
CALSCALE:GREGORIAN
METHOD:PUBLISH
X-WR-CALNAME:Sherwood Nordic Walking
X-ORIGINAL-URL:https://www.sherwoodnordicwalking.co.uk
X-WR-CALDESC:Events for Sherwood Nordic Walking
REFRESH-INTERVAL;VALUE=DURATION:PT1H
X-Robots-Tag:noindex
X-PUBLISHED-TTL:PT1H
BEGIN:VTIMEZONE
TZID:Europe/London
BEGIN:DAYLIGHT
TZOFFSETFROM:+0000
TZOFFSETTO:+0100
TZNAME:BST
DTSTART:20230326T010000
END:DAYLIGHT
BEGIN:STANDARD
TZOFFSETFROM:+0100
TZOFFSETTO:+0000
TZNAME:GMT
DTSTART:20231029T010000
END:STANDARD
BEGIN:DAYLIGHT
TZOFFSETFROM:+0000
TZOFFSETTO:+0100
TZNAME:BST
DTSTART:20240331T010000
END:DAYLIGHT
BEGIN:STANDARD
TZOFFSETFROM:+0100
TZOFFSETTO:+0000
TZNAME:GMT
DTSTART:20241027T010000
END:STANDARD
BEGIN:DAYLIGHT
TZOFFSETFROM:+0000
TZOFFSETTO:+0100
TZNAME:BST
DTSTART:20250330T010000
END:DAYLIGHT
BEGIN:STANDARD
TZOFFSETFROM:+0100
TZOFFSETTO:+0000
TZNAME:GMT
DTSTART:20251026T010000
END:STANDARD
END:VTIMEZONE
BEGIN:VEVENT
DTSTART;TZID=Europe/London:20240110T100000
DTEND;TZID=Europe/London:20240110T120000
DTSTAMP:20260421T114235
CREATED:20231215T114555Z
LAST-MODIFIED:20231215T114823Z
UID:10001814-1704880800-1704888000@www.sherwoodnordicwalking.co.uk
SUMMARY:Walk Leader *Slower* Adventure to Clumber Park
DESCRIPTION:Welcome to Wednesday Walk Leader Adventure with Tricia and Liz. \n\n\nYour Walk Leaders will warm you all up before taking you on a steady 3.5 – 4.5 mile nordic walk through Clumber Park. \n\n\nPlease park by the Norman Gates\, opposite the Clumber Park Hotel. \n\n\nDistance: 3.5 – 4.5 miles \nPace: Slow \n  \nLATE CANCELLATION POLICY: Sherwood Nordic Walking has a late cancellation policy whereby we require 24 hours’ notice for cancelling a walk booking. No refunds can be issued however it may be possible to use the credit one time on a future session. This will be dependent on the cancelling client making contact with Tracy. Refunds will only be issued if the session has been cancelled by the Instructor or Walk Leader. \nThank you\, \nTracy Hall \n07891932782 
URL:https://www.sherwoodnordicwalking.co.uk/walks/walk-leader-slower-adventure-to-clumber-park-20/
LOCATION:Normanton Gates\, Clumber Park\, Normanton Gates\, Clumber Park\, S80 3PA
CATEGORIES:Normanton Gates
ORGANIZER;CN="Tricia Scott":MAILTO:triciascott@hotmail.co.uk
END:VEVENT
END:VCALENDAR