BEGIN:VCALENDAR
VERSION:2.0
PRODID:-//Sherwood Nordic Walking - ECPv6.15.12.2//NONSGML v1.0//EN
CALSCALE:GREGORIAN
METHOD:PUBLISH
X-WR-CALNAME:Sherwood Nordic Walking
X-ORIGINAL-URL:https://www.sherwoodnordicwalking.co.uk
X-WR-CALDESC:Events for Sherwood Nordic Walking
REFRESH-INTERVAL;VALUE=DURATION:PT1H
X-Robots-Tag:noindex
X-PUBLISHED-TTL:PT1H
BEGIN:VTIMEZONE
TZID:Europe/London
BEGIN:DAYLIGHT
TZOFFSETFROM:+0000
TZOFFSETTO:+0100
TZNAME:BST
DTSTART:20230326T010000
END:DAYLIGHT
BEGIN:STANDARD
TZOFFSETFROM:+0100
TZOFFSETTO:+0000
TZNAME:GMT
DTSTART:20231029T010000
END:STANDARD
BEGIN:DAYLIGHT
TZOFFSETFROM:+0000
TZOFFSETTO:+0100
TZNAME:BST
DTSTART:20240331T010000
END:DAYLIGHT
BEGIN:STANDARD
TZOFFSETFROM:+0100
TZOFFSETTO:+0000
TZNAME:GMT
DTSTART:20241027T010000
END:STANDARD
BEGIN:DAYLIGHT
TZOFFSETFROM:+0000
TZOFFSETTO:+0100
TZNAME:BST
DTSTART:20250330T010000
END:DAYLIGHT
BEGIN:STANDARD
TZOFFSETFROM:+0100
TZOFFSETTO:+0000
TZNAME:GMT
DTSTART:20251026T010000
END:STANDARD
END:VTIMEZONE
BEGIN:VEVENT
DTSTART;TZID=Europe/London:20240122T100000
DTEND;TZID=Europe/London:20240122T120000
DTSTAMP:20260419T143444
CREATED:20231215T120432Z
LAST-MODIFIED:20240122T081320Z
UID:10001846-1705917600-1705924800@www.sherwoodnordicwalking.co.uk
SUMMARY:*cancelled* Sherwood Pines
DESCRIPTION:We are very fortunate to have Sherwood Pines as one of our regular Monday venues. As the largest forest open to the public in the East Midlands there are over 3\,300 acres to discover. It’s a centre for a wide variety of outdoor activities from a relaxed stroll to Go Ape Tree Top Adventure and much\, much more. \nJoin Sherwood Nordic Walking as we guide you along the Ranger’s Path and other fabulous routes around the forest. The terrain is mostly firm with a slight gradient in places. \nA parking code on the day will give you half price parking. Car sharing can also be arranged from South Forest Leisure Complex What3Words busy/household/form. \nDistance: 4.5 miles \nPace: Moderate \n  \nLATE CANCELLATION POLICY: Sherwood Nordic Walking has a late cancellation policy whereby we require 24 hours’ notice for cancelling a walk booking. No refunds can be issued however it may be possible to use the credit one time on a future session. This will be dependent on the cancelling client making contact with Tracy. Refunds will only be issued if the session has been cancelled by the Instructor or Walk Leader. \nThank you\, \nTracy Hall \n07891932782 
URL:https://www.sherwoodnordicwalking.co.uk/walks/sherwood-pines-3/
LOCATION:Sherwood Pines\, Edwinstowe\, Mansfield\,\, NG21 9JL\, United Kingdom
CATEGORIES:Sherwood Pines
END:VEVENT
END:VCALENDAR