BEGIN:VCALENDAR
VERSION:2.0
PRODID:-//Sherwood Nordic Walking - ECPv6.15.12.2//NONSGML v1.0//EN
CALSCALE:GREGORIAN
METHOD:PUBLISH
X-ORIGINAL-URL:https://www.sherwoodnordicwalking.co.uk
X-WR-CALDESC:Events for Sherwood Nordic Walking
REFRESH-INTERVAL;VALUE=DURATION:PT1H
X-Robots-Tag:noindex
X-PUBLISHED-TTL:PT1H
BEGIN:VTIMEZONE
TZID:Europe/London
BEGIN:DAYLIGHT
TZOFFSETFROM:+0000
TZOFFSETTO:+0100
TZNAME:BST
DTSTART:20230326T010000
END:DAYLIGHT
BEGIN:STANDARD
TZOFFSETFROM:+0100
TZOFFSETTO:+0000
TZNAME:GMT
DTSTART:20231029T010000
END:STANDARD
BEGIN:DAYLIGHT
TZOFFSETFROM:+0000
TZOFFSETTO:+0100
TZNAME:BST
DTSTART:20240331T010000
END:DAYLIGHT
BEGIN:STANDARD
TZOFFSETFROM:+0100
TZOFFSETTO:+0000
TZNAME:GMT
DTSTART:20241027T010000
END:STANDARD
BEGIN:DAYLIGHT
TZOFFSETFROM:+0000
TZOFFSETTO:+0100
TZNAME:BST
DTSTART:20250330T010000
END:DAYLIGHT
BEGIN:STANDARD
TZOFFSETFROM:+0100
TZOFFSETTO:+0000
TZNAME:GMT
DTSTART:20251026T010000
END:STANDARD
END:VTIMEZONE
BEGIN:VEVENT
DTSTART;TZID=Europe/London:20240124T100000
DTEND;TZID=Europe/London:20240124T120000
DTSTAMP:20260419T143533
CREATED:20231215T115449Z
LAST-MODIFIED:20231215T115514Z
UID:10001830-1706090400-1706097600@www.sherwoodnordicwalking.co.uk
SUMMARY:Walk Leader *slower* adventure at Idle Valley Nature Reserve
DESCRIPTION:Welcome to the Wednesday Walk Leader Adventure with Tricia and Liz. \n\n\nTricia will warm you all up before taking you on a steady 3.5 – 4.5 mile nordic walk around the spectacular Idle Valley Nature Reserve. \n\n\nStarting and ending at the main carpark which is currently donation payment. \n\n\nDistance: 3.5 – 4.5 miles \nPace: Slow \nLATE CANCELLATION POLICY: Sherwood Nordic Walking has a late cancellation policy whereby we require 24 hours’ notice for cancelling a walk booking. No refunds can be issued however it may be possible to use the credit one time on a future session. This will be dependent on the cancelling client making contact with Tracy\, Liz\, Tricia or Elaine before cancelling. Refunds will only be issued if the session has been cancelled by the Instructor or Walk Leader. \nThank you\, \nTracy\, Liz\, Tricia and Elaine \n07891932782\, 07989616423\, 07879344930 and 07827652795
URL:https://www.sherwoodnordicwalking.co.uk/walks/walk-leader-slower-adventure-at-idle-valley-nature-reserve-21/
LOCATION:Idle Valley Nature Reserve\, North Road\, Retford\, DN22 8RQ
CATEGORIES:Idle Valley Nature Reserve
ORGANIZER;CN="Liz Kent":MAILTO:trxie@hotmail.co.uk
END:VEVENT
BEGIN:VEVENT
DTSTART;TZID=Europe/London:20240124T120000
DTEND;TZID=Europe/London:20240124T130000
DTSTAMP:20260419T143533
CREATED:20231215T111621Z
LAST-MODIFIED:20231215T143745Z
UID:10001869-1706097600-1706101200@www.sherwoodnordicwalking.co.uk
SUMMARY:Thoresby Park Beginner's Training 2/3
DESCRIPTION:At a later time today\, due to a clash\, this session starts at 12 noon. \nFollowing on from the Beginner’s Training Session Part 1 we begin with a recap of the basic INWA technique steps. We will move onto the hill technique and foot dynamics before progressing onto cover up to step 6 of 10. \nYou can only take part in Session 2 if you have completed the Beginner’s Nordic Walking Training Part 1\, or already have experience of nordic walking. \nPoles are available to use free of charge. \nSession 3 on 31st January incorporates further practise and recap on key areas of the technique. \n 
URL:https://www.sherwoodnordicwalking.co.uk/walks/thoresby-park-beginners-training-2-3-8/
LOCATION:Thoresby Park\, The Courtyard\, Thoresby Park\, Newark\, NG22 9EP\, United Kingdom
CATEGORIES:Thoresby Park
END:VEVENT
END:VCALENDAR