BEGIN:VCALENDAR
VERSION:2.0
PRODID:-//Sherwood Nordic Walking - ECPv6.15.12.2//NONSGML v1.0//EN
CALSCALE:GREGORIAN
METHOD:PUBLISH
X-ORIGINAL-URL:https://www.sherwoodnordicwalking.co.uk
X-WR-CALDESC:Events for Sherwood Nordic Walking
REFRESH-INTERVAL;VALUE=DURATION:PT1H
X-Robots-Tag:noindex
X-PUBLISHED-TTL:PT1H
BEGIN:VTIMEZONE
TZID:Europe/London
BEGIN:DAYLIGHT
TZOFFSETFROM:+0000
TZOFFSETTO:+0100
TZNAME:BST
DTSTART:20230326T010000
END:DAYLIGHT
BEGIN:STANDARD
TZOFFSETFROM:+0100
TZOFFSETTO:+0000
TZNAME:GMT
DTSTART:20231029T010000
END:STANDARD
BEGIN:DAYLIGHT
TZOFFSETFROM:+0000
TZOFFSETTO:+0100
TZNAME:BST
DTSTART:20240331T010000
END:DAYLIGHT
BEGIN:STANDARD
TZOFFSETFROM:+0100
TZOFFSETTO:+0000
TZNAME:GMT
DTSTART:20241027T010000
END:STANDARD
BEGIN:DAYLIGHT
TZOFFSETFROM:+0000
TZOFFSETTO:+0100
TZNAME:BST
DTSTART:20250330T010000
END:DAYLIGHT
BEGIN:STANDARD
TZOFFSETFROM:+0100
TZOFFSETTO:+0000
TZNAME:GMT
DTSTART:20251026T010000
END:STANDARD
END:VTIMEZONE
BEGIN:VEVENT
DTSTART;TZID=Europe/London:20240318T133000
DTEND;TZID=Europe/London:20240318T143000
DTSTAMP:20260423T162832
CREATED:20240212T152758Z
LAST-MODIFIED:20240212T152758Z
UID:10001875-1710768600-1710772200@www.sherwoodnordicwalking.co.uk
SUMMARY:King's Park Beginner's Training 2/2
DESCRIPTION:Following on from the Beginner’s Training Session Part 1 we begin with a recap of the basic INWA technique steps. We will move onto the hill technique and foot dynamics before progressing onto cover up to step 6 of 10. \n  \nLATE CANCELLATION POLICY: Sherwood Nordic Walking has a late cancellation policy whereby we require 24 hours’ notice for cancelling a walk booking. No refunds can be issued however it may be possible to use the credit one time on a future session. This will be dependent on the cancelling client making contact with Tracy. Refunds will only be issued if the session has been cancelled by the Instructor or Walk Leader. \nThank you\, \nTracy Hall \n07891932782 
URL:https://www.sherwoodnordicwalking.co.uk/walks/kings-park-beginners-training-2-2/
LOCATION:Kings Park\, Retford\, Chancery Lane\, Retford\, DN22 6DF
END:VEVENT
END:VCALENDAR