BEGIN:VCALENDAR
VERSION:2.0
PRODID:-//Sherwood Nordic Walking - ECPv6.15.12.2//NONSGML v1.0//EN
CALSCALE:GREGORIAN
METHOD:PUBLISH
X-WR-CALNAME:Sherwood Nordic Walking
X-ORIGINAL-URL:https://www.sherwoodnordicwalking.co.uk
X-WR-CALDESC:Events for Sherwood Nordic Walking
REFRESH-INTERVAL;VALUE=DURATION:PT1H
X-Robots-Tag:noindex
X-PUBLISHED-TTL:PT1H
BEGIN:VTIMEZONE
TZID:Europe/London
BEGIN:DAYLIGHT
TZOFFSETFROM:+0000
TZOFFSETTO:+0100
TZNAME:BST
DTSTART:20230326T010000
END:DAYLIGHT
BEGIN:STANDARD
TZOFFSETFROM:+0100
TZOFFSETTO:+0000
TZNAME:GMT
DTSTART:20231029T010000
END:STANDARD
BEGIN:DAYLIGHT
TZOFFSETFROM:+0000
TZOFFSETTO:+0100
TZNAME:BST
DTSTART:20240331T010000
END:DAYLIGHT
BEGIN:STANDARD
TZOFFSETFROM:+0100
TZOFFSETTO:+0000
TZNAME:GMT
DTSTART:20241027T010000
END:STANDARD
BEGIN:DAYLIGHT
TZOFFSETFROM:+0000
TZOFFSETTO:+0100
TZNAME:BST
DTSTART:20250330T010000
END:DAYLIGHT
BEGIN:STANDARD
TZOFFSETFROM:+0100
TZOFFSETTO:+0000
TZNAME:GMT
DTSTART:20251026T010000
END:STANDARD
END:VTIMEZONE
BEGIN:VEVENT
DTSTART;TZID=Europe/London:20240610T100000
DTEND;TZID=Europe/London:20240610T113000
DTSTAMP:20260424T114051
CREATED:20240318T165531Z
LAST-MODIFIED:20240603T205118Z
UID:10001933-1718013600-1718019000@www.sherwoodnordicwalking.co.uk
SUMMARY:Relaxed Adventure at Clumber Park
DESCRIPTION:Have you recently learned to nordic walk? Did you train a while ago and feel like the classes we offer may be too fast and furious for you? Would you like a relaxed paced group at a beautiful venue? This could be the perfect session for you. \nWe will cover around 3 miles at a steady and relaxed pace. We can look at technique\, or we can look at the scenery\, or a bit of both. As long as we are moving forwards we are looking after our body and mind. \nJoin me for this session and we will build up your nordic journey together. \nPlease meet near the bike hire hut at Clumber Park. \nDistance: 3 miles \nPace: Relaxed \nLATE CANCELLATION POLICY: Sherwood Nordic Walking has a late cancellation policy whereby we require 24 hours’ notice for cancelling a walk booking. No refunds can be issued however it may be possible to use the credit one time on a future session. This will be dependent on the cancelling client making contact with Tracy. Refunds will only be issued if the session has been cancelled by the Instructor or Walk Leader. \nThank you\, \nTracy Hall \n07891932782 
URL:https://www.sherwoodnordicwalking.co.uk/walks/relaxed-adventure-at-clumber-park/
LOCATION:Clumber Park NT\, Worksop\, S80 3AZ
CATEGORIES:Clumber Park
END:VEVENT
BEGIN:VEVENT
DTSTART;TZID=Europe/London:20240610T100000
DTEND;TZID=Europe/London:20240610T120000
DTSTAMP:20260424T114051
CREATED:20240522T123916Z
LAST-MODIFIED:20240522T123955Z
UID:10001936-1718013600-1718020800@www.sherwoodnordicwalking.co.uk
SUMMARY:Idle Valley Nature Reserve
DESCRIPTION:Kick start your week with a feel good moderate pace across the Idle Valley Nature Reserve with the Sherwood Nordic walkers. This session is suitable for newly trained members and current members alike. Elaine will lead most of these sessions and will aim to keep the sessions varied and fresh. \n  \nDistance: 4.5 miles max \nPace: Moderate \nLATE CANCELLATION POLICY: Sherwood Nordic Walking has a late cancellation policy whereby we require 24 hours’ notice for cancelling a walk booking. No refunds can be issued however it may be possible to use the credit one time on a future session. This will be dependent on the cancelling client making contact with Tracy or Elaine. Refunds will only be issued if the session has been cancelled by the Instructor or Walk Leader. \nThank you\, \nTracy and Elaine \n07891932782 and 07827652795
URL:https://www.sherwoodnordicwalking.co.uk/walks/idle-valley-nature-reserve-13/
LOCATION:Idle Valley Nature Reserve\, North Road\, Retford\, DN22 8RQ
CATEGORIES:Idle Valley Nature Reserve
ORGANIZER;CN="Elaine Rockcliffe":MAILTO:elrockcliffe@btinternet.com
END:VEVENT
END:VCALENDAR