BEGIN:VCALENDAR
VERSION:2.0
PRODID:-//Sherwood Nordic Walking - ECPv6.15.12.2//NONSGML v1.0//EN
CALSCALE:GREGORIAN
METHOD:PUBLISH
X-WR-CALNAME:Sherwood Nordic Walking
X-ORIGINAL-URL:https://www.sherwoodnordicwalking.co.uk
X-WR-CALDESC:Events for Sherwood Nordic Walking
REFRESH-INTERVAL;VALUE=DURATION:PT1H
X-Robots-Tag:noindex
X-PUBLISHED-TTL:PT1H
BEGIN:VTIMEZONE
TZID:Europe/London
BEGIN:DAYLIGHT
TZOFFSETFROM:+0000
TZOFFSETTO:+0100
TZNAME:BST
DTSTART:20230326T010000
END:DAYLIGHT
BEGIN:STANDARD
TZOFFSETFROM:+0100
TZOFFSETTO:+0000
TZNAME:GMT
DTSTART:20231029T010000
END:STANDARD
BEGIN:DAYLIGHT
TZOFFSETFROM:+0000
TZOFFSETTO:+0100
TZNAME:BST
DTSTART:20240331T010000
END:DAYLIGHT
BEGIN:STANDARD
TZOFFSETFROM:+0100
TZOFFSETTO:+0000
TZNAME:GMT
DTSTART:20241027T010000
END:STANDARD
BEGIN:DAYLIGHT
TZOFFSETFROM:+0000
TZOFFSETTO:+0100
TZNAME:BST
DTSTART:20250330T010000
END:DAYLIGHT
BEGIN:STANDARD
TZOFFSETFROM:+0100
TZOFFSETTO:+0000
TZNAME:GMT
DTSTART:20251026T010000
END:STANDARD
END:VTIMEZONE
BEGIN:VEVENT
DTSTART;TZID=Europe/London:20240626T100000
DTEND;TZID=Europe/London:20240626T120000
DTSTAMP:20260424T111027
CREATED:20240226T203512Z
LAST-MODIFIED:20240226T203720Z
UID:10001827-1719396000-1719403200@www.sherwoodnordicwalking.co.uk
SUMMARY:Relaxed Adventure in Everton
DESCRIPTION:Welcome to Wednesday Walk Leader Adventures with Tricia and Liz. \n\n\nYour Walk Leaders will warm you all up before taking you on a steady 3.5 – 4.5 mile Adventure beginning in the village of Everton. \n\n\nThis delightful route takes us along open countryside\, along the river Idle and through woodland. Beginning and ending at The Bean Scene there is ample parking! We can stop for a hot drink and snacks/lunch at the end. \n\n\nSometimes the start point may be The Yurt or near the Church in Everton\, so we will update you if this is the case. \n\n\n3.5 – 4.5 miles \nPace: Slow \n\n\n249ft ascent (max) \n\nLATE CANCELLATION POLICY: Sherwood Nordic Walking has a late cancellation policy whereby we require 24 hours’ notice for cancelling a walk booking. No refunds can be issued however it may be possible to use the credit one time on a future session. This will be dependent on the cancelling client making contact with Tracy\, Liz\, Tricia or Elaine before cancelling. Refunds will only be issued if the session has been cancelled by the Instructor or Walk Leader. \nThank you\, \nTracy\, Liz\, Tricia and Elaine \n07891932782\, 07989616423\, 07879344930 and 07827652795
URL:https://www.sherwoodnordicwalking.co.uk/walks/walk-leader-slower-adventure-in-everton-24/
LOCATION:Bean Scene\, Gainsborough Road\, Everton\, DN10 5BW
CATEGORIES:Everton
ORGANIZER;CN="Liz Kent":MAILTO:trxie@hotmail.co.uk
END:VEVENT
BEGIN:VEVENT
DTSTART;TZID=Europe/London:20240626T180000
DTEND;TZID=Europe/London:20240626T190000
DTSTAMP:20260424T111027
CREATED:20240312T193812Z
LAST-MODIFIED:20240312T193850Z
UID:10001894-1719424800-1719428400@www.sherwoodnordicwalking.co.uk
SUMMARY:Evening Clumber Park\, Normanton Gates
DESCRIPTION:These evening sessions are 1 hour long and start at the Normanton Gates of Clumber Park. \nCome and stride out and feeling the power of your poles with Elaine! \nDistance: 3-3.5 miles \nPace: Moderate \nParking is at the Clumber Park Hotel. Be careful as you cross over the busy main road. \nSpaces are limited on these evening sessions due to Walk Leader insurance and group management. With this in mind please note the cancellation policy. Equally if the walk is ‘out of stock’\, but you’d like to attend\, please get in touch as we may be able to fit you in. \nLATE CANCELLATION POLICY: Sherwood Nordic Walking has a late cancellation policy whereby we require 24 hours’ notice for cancelling a walk booking. No refunds can be issued however it may be possible to use the credit one time on a future session. This will be dependent on the cancelling client making contact with Tracy or Elaine. Refunds will only be issued if the session has been cancelled by the Instructor or Walk Leader. \nThank you\, \nTracy and Elaine \n07891932782 and 07827652795
URL:https://www.sherwoodnordicwalking.co.uk/walks/evening-clumber-park-normanton-gates-5/
LOCATION:Clumber Park Hotel\, Clumber Park Hotel (Muthu)\, Worksop\, S80 3PA
CATEGORIES:Clumber Park Hotel
ORGANIZER;CN="Elaine Rockcliffe":MAILTO:elrockcliffe@btinternet.com
END:VEVENT
END:VCALENDAR