BEGIN:VCALENDAR
VERSION:2.0
PRODID:-//Sherwood Nordic Walking - ECPv6.15.12.2//NONSGML v1.0//EN
CALSCALE:GREGORIAN
METHOD:PUBLISH
X-ORIGINAL-URL:https://www.sherwoodnordicwalking.co.uk
X-WR-CALDESC:Events for Sherwood Nordic Walking
REFRESH-INTERVAL;VALUE=DURATION:PT1H
X-Robots-Tag:noindex
X-PUBLISHED-TTL:PT1H
BEGIN:VTIMEZONE
TZID:Europe/London
BEGIN:DAYLIGHT
TZOFFSETFROM:+0000
TZOFFSETTO:+0100
TZNAME:BST
DTSTART:20230326T010000
END:DAYLIGHT
BEGIN:STANDARD
TZOFFSETFROM:+0100
TZOFFSETTO:+0000
TZNAME:GMT
DTSTART:20231029T010000
END:STANDARD
BEGIN:DAYLIGHT
TZOFFSETFROM:+0000
TZOFFSETTO:+0100
TZNAME:BST
DTSTART:20240331T010000
END:DAYLIGHT
BEGIN:STANDARD
TZOFFSETFROM:+0100
TZOFFSETTO:+0000
TZNAME:GMT
DTSTART:20241027T010000
END:STANDARD
BEGIN:DAYLIGHT
TZOFFSETFROM:+0000
TZOFFSETTO:+0100
TZNAME:BST
DTSTART:20250330T010000
END:DAYLIGHT
BEGIN:STANDARD
TZOFFSETFROM:+0100
TZOFFSETTO:+0000
TZNAME:GMT
DTSTART:20251026T010000
END:STANDARD
END:VTIMEZONE
BEGIN:VEVENT
DTSTART;TZID=Europe/London:20240923T100000
DTEND;TZID=Europe/London:20240923T123000
DTSTAMP:20260419T162041
CREATED:20240821T192857Z
LAST-MODIFIED:20240821T195809Z
UID:10002561-1727085600-1727094600@www.sherwoodnordicwalking.co.uk
SUMMARY:Fitness Adventure - Kilton to Osberton
DESCRIPTION:This moderate-paced adventure with Elaine is more challenging than our regular nordic adventures due to the pace and distance. \nThis walk starts at the public car park near Kilton Golf course in Worksop\, also known as Bassetlaw Showground. We will venture towards the Osberton estate where we will catch a glimpse of Osberton Hall and along Hundred Acre Woods. \nIf anyone would like to we can head to the Kilton Forest Golf Club for refreshments before heading home. \nDistance: 6.2 miles / 10k \n  \nLATE CANCELLATION POLICY: Sherwood Nordic Walking has a late cancellation policy whereby we require 24 hours’ notice for cancelling a walk booking. No refunds can be issued however it may be possible to use the credit one time on a future session. This will be dependent on the cancelling client making contact with Tracy. Refunds will only be issued if the session has been cancelled by the Instructor or Walk Leader. \nThank you\, \nTracy  \n07891932782 
URL:https://www.sherwoodnordicwalking.co.uk/walks/fitness-adventure-kilton-to-osberton/
LOCATION:Kilton (Bassetlaw Showground)\, Blyth Road\, Worksop\, s81 0NZ
CATEGORIES:Osberton
ORGANIZER;CN="Elaine Rockcliffe":MAILTO:elrockcliffe@btinternet.com
END:VEVENT
END:VCALENDAR