BEGIN:VCALENDAR
VERSION:2.0
PRODID:-//Sherwood Nordic Walking - ECPv6.15.12.2//NONSGML v1.0//EN
CALSCALE:GREGORIAN
METHOD:PUBLISH
X-ORIGINAL-URL:https://www.sherwoodnordicwalking.co.uk
X-WR-CALDESC:Events for Sherwood Nordic Walking
REFRESH-INTERVAL;VALUE=DURATION:PT1H
X-Robots-Tag:noindex
X-PUBLISHED-TTL:PT1H
BEGIN:VTIMEZONE
TZID:Europe/London
BEGIN:DAYLIGHT
TZOFFSETFROM:+0000
TZOFFSETTO:+0100
TZNAME:BST
DTSTART:20230326T010000
END:DAYLIGHT
BEGIN:STANDARD
TZOFFSETFROM:+0100
TZOFFSETTO:+0000
TZNAME:GMT
DTSTART:20231029T010000
END:STANDARD
BEGIN:DAYLIGHT
TZOFFSETFROM:+0000
TZOFFSETTO:+0100
TZNAME:BST
DTSTART:20240331T010000
END:DAYLIGHT
BEGIN:STANDARD
TZOFFSETFROM:+0100
TZOFFSETTO:+0000
TZNAME:GMT
DTSTART:20241027T010000
END:STANDARD
BEGIN:DAYLIGHT
TZOFFSETFROM:+0000
TZOFFSETTO:+0100
TZNAME:BST
DTSTART:20250330T010000
END:DAYLIGHT
BEGIN:STANDARD
TZOFFSETFROM:+0100
TZOFFSETTO:+0000
TZNAME:GMT
DTSTART:20251026T010000
END:STANDARD
END:VTIMEZONE
BEGIN:VEVENT
DTSTART;TZID=Europe/London:20241021T100000
DTEND;TZID=Europe/London:20241021T120000
DTSTAMP:20260423T145111
CREATED:20241012T100709Z
LAST-MODIFIED:20241012T100709Z
UID:10002585-1729504800-1729512000@www.sherwoodnordicwalking.co.uk
SUMMARY:Fitness Adventure from Langold Country Park
DESCRIPTION:This moderate-paced adventure with Elaine is more challenging than our regular nordic adventures due to the pace and elevation. Be prepared to get out of puff! \nThe pit top gives great views and is a useful measure of fitness. \nCome and stride out and feeling the power of your poles with Elaine! \nDistance: 3.5-4.5 miles \nPace: Moderate \nParking is in the small cafe carpark off the A60 Langold-Costhorpe Road. \nRefreshments will probably be at the Manor Farm. \nWhat3Words: ourselves.canines.annoys \nSpaces are limited on these evening sessions due to Walk Leader insurance and group management. With this in mind please note the cancellation policy. Equally if the walk is ‘out of stock’\, but you’d like to attend\, please get in touch as we may be able to fit you in. \nLATE CANCELLATION POLICY: Sherwood Nordic Walking has a late cancellation policy whereby we require 24 hours’ notice for cancelling a walk booking. No refunds can be issued however it may be possible to use the credit one time on a future session. This will be dependent on the cancelling client making contact with Tracy or Elaine. Refunds will only be issued if the session has been cancelled by the Instructor or Walk Leader. \nThank you\, \nTracy and Elaine \n07891932782 and 07827652795
URL:https://www.sherwoodnordicwalking.co.uk/walks/fitness-adventure-from-langold-country-park/
LOCATION:Langold Country Park Cafe Carpark\, Langold Country Park\, Langold\, S81 9QW\, United Kingdom
CATEGORIES:Langold Country Park
ORGANIZER;CN="Elaine Rockcliffe":MAILTO:elrockcliffe@btinternet.com
END:VEVENT
END:VCALENDAR