BEGIN:VCALENDAR
VERSION:2.0
PRODID:-//Sherwood Nordic Walking - ECPv6.15.12.2//NONSGML v1.0//EN
CALSCALE:GREGORIAN
METHOD:PUBLISH
X-WR-CALNAME:Sherwood Nordic Walking
X-ORIGINAL-URL:https://www.sherwoodnordicwalking.co.uk
X-WR-CALDESC:Events for Sherwood Nordic Walking
REFRESH-INTERVAL;VALUE=DURATION:PT1H
X-Robots-Tag:noindex
X-PUBLISHED-TTL:PT1H
BEGIN:VTIMEZONE
TZID:Europe/London
BEGIN:DAYLIGHT
TZOFFSETFROM:+0000
TZOFFSETTO:+0100
TZNAME:BST
DTSTART:20230326T010000
END:DAYLIGHT
BEGIN:STANDARD
TZOFFSETFROM:+0100
TZOFFSETTO:+0000
TZNAME:GMT
DTSTART:20231029T010000
END:STANDARD
BEGIN:DAYLIGHT
TZOFFSETFROM:+0000
TZOFFSETTO:+0100
TZNAME:BST
DTSTART:20240331T010000
END:DAYLIGHT
BEGIN:STANDARD
TZOFFSETFROM:+0100
TZOFFSETTO:+0000
TZNAME:GMT
DTSTART:20241027T010000
END:STANDARD
BEGIN:DAYLIGHT
TZOFFSETFROM:+0000
TZOFFSETTO:+0100
TZNAME:BST
DTSTART:20250330T010000
END:DAYLIGHT
BEGIN:STANDARD
TZOFFSETFROM:+0100
TZOFFSETTO:+0000
TZNAME:GMT
DTSTART:20251026T010000
END:STANDARD
END:VTIMEZONE
BEGIN:VEVENT
DTSTART;TZID=Europe/London:20241028T100000
DTEND;TZID=Europe/London:20241028T120000
DTSTAMP:20260419T143434
CREATED:20241009T165206Z
LAST-MODIFIED:20241010T115140Z
UID:10002584-1730109600-1730116800@www.sherwoodnordicwalking.co.uk
SUMMARY:Fitness adventure to Creswell Crags
DESCRIPTION:Beginning at The Dukeries (Notcutts) garden centre carpark. From the carpark we will begin by crossing over the main road. We will wind our way along a country lane and through open farmland until we reach the spectacular Creswell Crags. Another country lane leads us past some quarries before we head back towards Creswell Crags\, along the main road and back to the garden centre carpark. \nThere is some steep terrain and also a high stile to climb over. \nLunch is available at the Harley Gallery and also at the garden centre café. \nDistance: 4.6 miles \nPace: Moderate \nSpaces are limited on the Walk Leader nordic walks due to Walk Leader insurance and group management. With this in mind please note the cancellation policy and please give as much notice as you can if you need to cancel so that your slot can be opened up to someone else. Equally if the walk is ‘out of stock’\, but you’d like to attend\, please get in touch as we may be able to fit you in. \nLATE CANCELLATION POLICY: Sherwood Nordic Walking has a late cancellation policy whereby we require 24 hours’ notice for cancelling a walk booking. No refunds can be issued however it may be possible to use the credit one time on a future session. This will be dependent on the cancelling client making contact with Tracy or Elaine. Refunds will only be issued if the session has been cancelled by the Instructor or Walk Leader. \nThank you\, \nTracy and Elaine \n07891932782 and 07827652795
URL:https://www.sherwoodnordicwalking.co.uk/walks/creswell-crags/
LOCATION:Creswell Crags\, Mansfield Road\, Worksop\, S80 3LT
CATEGORIES:Creswell Crags
ORGANIZER;CN="Elaine Rockcliffe":MAILTO:elrockcliffe@btinternet.com
END:VEVENT
END:VCALENDAR