BEGIN:VCALENDAR
VERSION:2.0
PRODID:-//Sherwood Nordic Walking - ECPv6.15.12.2//NONSGML v1.0//EN
CALSCALE:GREGORIAN
METHOD:PUBLISH
X-ORIGINAL-URL:https://www.sherwoodnordicwalking.co.uk
X-WR-CALDESC:Events for Sherwood Nordic Walking
REFRESH-INTERVAL;VALUE=DURATION:PT1H
X-Robots-Tag:noindex
X-PUBLISHED-TTL:PT1H
BEGIN:VTIMEZONE
TZID:Europe/London
BEGIN:DAYLIGHT
TZOFFSETFROM:+0000
TZOFFSETTO:+0100
TZNAME:BST
DTSTART:20230326T010000
END:DAYLIGHT
BEGIN:STANDARD
TZOFFSETFROM:+0100
TZOFFSETTO:+0000
TZNAME:GMT
DTSTART:20231029T010000
END:STANDARD
BEGIN:DAYLIGHT
TZOFFSETFROM:+0000
TZOFFSETTO:+0100
TZNAME:BST
DTSTART:20240331T010000
END:DAYLIGHT
BEGIN:STANDARD
TZOFFSETFROM:+0100
TZOFFSETTO:+0000
TZNAME:GMT
DTSTART:20241027T010000
END:STANDARD
BEGIN:DAYLIGHT
TZOFFSETFROM:+0000
TZOFFSETTO:+0100
TZNAME:BST
DTSTART:20250330T010000
END:DAYLIGHT
BEGIN:STANDARD
TZOFFSETFROM:+0100
TZOFFSETTO:+0000
TZNAME:GMT
DTSTART:20251026T010000
END:STANDARD
END:VTIMEZONE
BEGIN:VEVENT
DTSTART;TZID=Europe/London:20241030T100000
DTEND;TZID=Europe/London:20241030T120000
DTSTAMP:20260421T114455
CREATED:20240820T144227Z
LAST-MODIFIED:20240820T144305Z
UID:10002540-1730282400-1730289600@www.sherwoodnordicwalking.co.uk
SUMMARY:Relaxed Adventure in Everton
DESCRIPTION:Welcome to Wednesday Walk Leader Adventures with Tricia and Liz. \n\n\nYour Walk Leaders will warm you all up before taking you on a steady 3.5 – 4.5 mile Adventure beginning in the village of Everton. \n\n\nThis delightful route takes us along open countryside\, along the river Idle and through woodland. Beginning and ending at The Bean Scene there is ample parking! We can stop for a hot drink and snacks/lunch at the end. \n\n\nSometimes the start point may be The Yurt or near the Church in Everton\, so we will update you if this is the case. \n\n\n3.5 – 4.5 miles \nPace: Slow-Steady \n\n\n249ft ascent (max) \n\nLATE CANCELLATION POLICY: Sherwood Nordic Walking has a late cancellation policy whereby we require 24 hours’ notice for cancelling a walk booking. No refunds can be issued however it may be possible to use the credit one time on a future session. This will be dependent on the cancelling client making contact with Tracy\, Liz or Tricia before cancelling. Refunds will only be issued if the session has been cancelled by the Instructor or Walk Leader. \nThank you\, \nTracy\, Liz and Tricia  \n07891932782\, 07989616423 and 07879344930
URL:https://www.sherwoodnordicwalking.co.uk/walks/relaxed-adventure-in-everton-3/
LOCATION:Bean Scene\, Gainsborough Road\, Everton\, DN10 5BW
CATEGORIES:Everton
ORGANIZER;CN="Tricia Scott":MAILTO:triciascott@hotmail.co.uk
END:VEVENT
END:VCALENDAR