BEGIN:VCALENDAR
VERSION:2.0
PRODID:-//Sherwood Nordic Walking - ECPv6.15.12.2//NONSGML v1.0//EN
CALSCALE:GREGORIAN
METHOD:PUBLISH
X-ORIGINAL-URL:https://www.sherwoodnordicwalking.co.uk
X-WR-CALDESC:Events for Sherwood Nordic Walking
REFRESH-INTERVAL;VALUE=DURATION:PT1H
X-Robots-Tag:noindex
X-PUBLISHED-TTL:PT1H
BEGIN:VTIMEZONE
TZID:Europe/London
BEGIN:DAYLIGHT
TZOFFSETFROM:+0000
TZOFFSETTO:+0100
TZNAME:BST
DTSTART:20230326T010000
END:DAYLIGHT
BEGIN:STANDARD
TZOFFSETFROM:+0100
TZOFFSETTO:+0000
TZNAME:GMT
DTSTART:20231029T010000
END:STANDARD
BEGIN:DAYLIGHT
TZOFFSETFROM:+0000
TZOFFSETTO:+0100
TZNAME:BST
DTSTART:20240331T010000
END:DAYLIGHT
BEGIN:STANDARD
TZOFFSETFROM:+0100
TZOFFSETTO:+0000
TZNAME:GMT
DTSTART:20241027T010000
END:STANDARD
BEGIN:DAYLIGHT
TZOFFSETFROM:+0000
TZOFFSETTO:+0100
TZNAME:BST
DTSTART:20250330T010000
END:DAYLIGHT
BEGIN:STANDARD
TZOFFSETFROM:+0100
TZOFFSETTO:+0000
TZNAME:GMT
DTSTART:20251026T010000
END:STANDARD
END:VTIMEZONE
BEGIN:VEVENT
DTSTART;TZID=Europe/London:20241104T100000
DTEND;TZID=Europe/London:20241104T120000
DTSTAMP:20260423T111914
CREATED:20240826T182614Z
LAST-MODIFIED:20240826T182614Z
UID:10002572-1730714400-1730721600@www.sherwoodnordicwalking.co.uk
SUMMARY:Fitness Adventure along the Chesterfield Canal
DESCRIPTION:This is a moderate-paced adventure and is challenging due to the pit top that we will climb\, and the distance. \nWe will meet at the Lock keeper Inn carpark off the A57 roundabout in Worksop (Sainsbury’s/McDonald’s roundabout). We will follow the Chesterfield canal through Shireoaks and to Turners Wood. \nAfter crossing the railway we will follow the fields that take us back to the canal. We will power orselves to admire the view at the top of Shireoaks pit top  before heading back to our starting point. \nDistance: 5-6 miles \nPace: Moderate \nStiles: 2 \nLATE CANCELLATION POLICY: Sherwood Nordic Walking has a late cancellation policy whereby we require 24 hours’ notice for cancelling a walk booking. No refunds can be issued however it may be possible to use the credit one time on a future session. This will be dependent on the cancelling client making contact with Tracy. Refunds will only be issued if the session has been cancelled by the Instructor or Walk Leader. \nThank you\, \nTracy  \n07891932782 
URL:https://www.sherwoodnordicwalking.co.uk/walks/fitness-adventure-along-the-chesterfield-canal/
LOCATION:The Lock keepers Inn\, The Lock keepers Inn\, Worksop\, S80 1TJ
CATEGORIES:Chesterfield Canal
END:VEVENT
END:VCALENDAR