BEGIN:VCALENDAR
VERSION:2.0
PRODID:-//Sherwood Nordic Walking - ECPv6.15.12.2//NONSGML v1.0//EN
CALSCALE:GREGORIAN
METHOD:PUBLISH
X-WR-CALNAME:Sherwood Nordic Walking
X-ORIGINAL-URL:https://www.sherwoodnordicwalking.co.uk
X-WR-CALDESC:Events for Sherwood Nordic Walking
REFRESH-INTERVAL;VALUE=DURATION:PT1H
X-Robots-Tag:noindex
X-PUBLISHED-TTL:PT1H
BEGIN:VTIMEZONE
TZID:Europe/London
BEGIN:DAYLIGHT
TZOFFSETFROM:+0000
TZOFFSETTO:+0100
TZNAME:BST
DTSTART:20230326T010000
END:DAYLIGHT
BEGIN:STANDARD
TZOFFSETFROM:+0100
TZOFFSETTO:+0000
TZNAME:GMT
DTSTART:20231029T010000
END:STANDARD
BEGIN:DAYLIGHT
TZOFFSETFROM:+0000
TZOFFSETTO:+0100
TZNAME:BST
DTSTART:20240331T010000
END:DAYLIGHT
BEGIN:STANDARD
TZOFFSETFROM:+0100
TZOFFSETTO:+0000
TZNAME:GMT
DTSTART:20241027T010000
END:STANDARD
BEGIN:DAYLIGHT
TZOFFSETFROM:+0000
TZOFFSETTO:+0100
TZNAME:BST
DTSTART:20250330T010000
END:DAYLIGHT
BEGIN:STANDARD
TZOFFSETFROM:+0100
TZOFFSETTO:+0000
TZNAME:GMT
DTSTART:20251026T010000
END:STANDARD
END:VTIMEZONE
BEGIN:VEVENT
DTSTART;TZID=Europe/London:20241109T093000
DTEND;TZID=Europe/London:20241109T130000
DTSTAMP:20260425T131932
CREATED:20241009T164319Z
LAST-MODIFIED:20241009T165322Z
UID:10002582-1731144600-1731157200@www.sherwoodnordicwalking.co.uk
SUMMARY:Teversal to Hardwick with Elaine
DESCRIPTION:Approximately 7 miles\, starting with flat easy former railway lines\, then into more wooded areas with multiple flights of steep and uneven steps to Hardwick Hall. \n\nIf you are a National Trust member\, please bring your card so that it can be scanned when we go to the Cafe at Hardwick Hall. No need to pay. \n\nRefreshments at the cafe then through parkland and back to former railway lines to return to Teversal. \nParking is free\, and is off Carnarvon Road. NG17 3HJ. \nDistance: 7 miles \nPace: Moderate \nSpaces are limited on the Walk Leader nordic walks due to Walk Leader insurance and group management. With this in mind please note the cancellation policy and please give as much notice as you can if you need to cancel so that your slot can be opened up to someone else. Equally if the walk is ‘out of stock’\, but you’d like to attend\, please get in touch as we may be able to fit you in. \nLATE CANCELLATION POLICY: Sherwood Nordic Walking has a late cancellation policy whereby we require 24 hours’ notice for cancelling a walk booking. No refunds can be issued however it may be possible to use the credit one time on a future session. This will be dependent on the cancelling client making contact with Tracy or Elaine. Refunds will only be issued if the session has been cancelled by the Instructor or Walk Leader. \nThank you\, \nTracy and Elaine \n07891932782 and 07827652795 \n  \nLATE CANCELLATION POLICY: Sherwood Nordic Walking has a late cancellation policy whereby we require 24 hours’ notice for cancelling a walk booking. No refunds can be issued however it may be possible to use the credit one time on a future session. This will be dependent on the cancelling client making contact with Tracy. Refunds will only be issued if the session has been cancelled by the Instructor or Walk Leader. \nThank you\, \nTracy Hall \n07891932782 
URL:https://www.sherwoodnordicwalking.co.uk/walks/teversal-to-hardwick-with-elaine-2/
LOCATION:Teversal Visitor Centre\, Carnarvon Street\, Teversal\, NG17 3HJ
ORGANIZER;CN="Elaine Rockcliffe":MAILTO:elrockcliffe@btinternet.com
END:VEVENT
END:VCALENDAR