BEGIN:VCALENDAR
VERSION:2.0
PRODID:-//Sherwood Nordic Walking - ECPv6.15.12.2//NONSGML v1.0//EN
CALSCALE:GREGORIAN
METHOD:PUBLISH
X-WR-CALNAME:Sherwood Nordic Walking
X-ORIGINAL-URL:https://www.sherwoodnordicwalking.co.uk
X-WR-CALDESC:Events for Sherwood Nordic Walking
REFRESH-INTERVAL;VALUE=DURATION:PT1H
X-Robots-Tag:noindex
X-PUBLISHED-TTL:PT1H
BEGIN:VTIMEZONE
TZID:Europe/London
BEGIN:DAYLIGHT
TZOFFSETFROM:+0000
TZOFFSETTO:+0100
TZNAME:BST
DTSTART:20230326T010000
END:DAYLIGHT
BEGIN:STANDARD
TZOFFSETFROM:+0100
TZOFFSETTO:+0000
TZNAME:GMT
DTSTART:20231029T010000
END:STANDARD
BEGIN:DAYLIGHT
TZOFFSETFROM:+0000
TZOFFSETTO:+0100
TZNAME:BST
DTSTART:20240331T010000
END:DAYLIGHT
BEGIN:STANDARD
TZOFFSETFROM:+0100
TZOFFSETTO:+0000
TZNAME:GMT
DTSTART:20241027T010000
END:STANDARD
BEGIN:DAYLIGHT
TZOFFSETFROM:+0000
TZOFFSETTO:+0100
TZNAME:BST
DTSTART:20250330T010000
END:DAYLIGHT
BEGIN:STANDARD
TZOFFSETFROM:+0100
TZOFFSETTO:+0000
TZNAME:GMT
DTSTART:20251026T010000
END:STANDARD
END:VTIMEZONE
BEGIN:VEVENT
DTSTART;TZID=Europe/London:20241118T100000
DTEND;TZID=Europe/London:20241118T120000
DTSTAMP:20260423T125101
CREATED:20241012T131930Z
LAST-MODIFIED:20241028T133123Z
UID:10002586-1731924000-1731931200@www.sherwoodnordicwalking.co.uk
SUMMARY:Relaxed Adventure to Whitwell Woods
DESCRIPTION:Whitwell woods today! Go on\, you know you want to! The tall trees and wide paths are perfect for nordic walking. \n\n\nWe will meet in the large lay-by on the Worksop to Chesterfield road (A619). We will venture into the woods and meander along the lovely wide paths\, listening out for the wildlife and seeing what we can spot. \n\n\nAfter the walk\, refreshments are available at the Arrow Farm cafe or Darfoulds garden centre. \n\n\nDistance: 4 miles \n\nPace: Relaxed \n  \nLATE CANCELLATION POLICY: Sherwood Nordic Walking has a late cancellation policy whereby we require 24 hours’ notice for cancelling a walk booking. No refunds can be issued however it may be possible to use the credit one time on a future session. This will be dependent on the cancelling client making contact with Tracy. Refunds will only be issued if the session has been cancelled by the Instructor or Walk Leader. \nThank you\, \nTracy Hall \n07891932782 
URL:https://www.sherwoodnordicwalking.co.uk/walks/relaxed-adventure-to-whitwell-woods/
LOCATION:Whitwell Woods\, Clinthill Lane\, Worksop\, S80 3EE
CATEGORIES:Whitwell Woods
END:VEVENT
END:VCALENDAR