BEGIN:VCALENDAR
VERSION:2.0
PRODID:-//Sherwood Nordic Walking - ECPv6.15.12.2//NONSGML v1.0//EN
CALSCALE:GREGORIAN
METHOD:PUBLISH
X-ORIGINAL-URL:https://www.sherwoodnordicwalking.co.uk
X-WR-CALDESC:Events for Sherwood Nordic Walking
REFRESH-INTERVAL;VALUE=DURATION:PT1H
X-Robots-Tag:noindex
X-PUBLISHED-TTL:PT1H
BEGIN:VTIMEZONE
TZID:Europe/London
BEGIN:DAYLIGHT
TZOFFSETFROM:+0000
TZOFFSETTO:+0100
TZNAME:BST
DTSTART:20250330T010000
END:DAYLIGHT
BEGIN:STANDARD
TZOFFSETFROM:+0100
TZOFFSETTO:+0000
TZNAME:GMT
DTSTART:20251026T010000
END:STANDARD
BEGIN:DAYLIGHT
TZOFFSETFROM:+0000
TZOFFSETTO:+0100
TZNAME:BST
DTSTART:20260329T010000
END:DAYLIGHT
BEGIN:STANDARD
TZOFFSETFROM:+0100
TZOFFSETTO:+0000
TZNAME:GMT
DTSTART:20261025T010000
END:STANDARD
BEGIN:DAYLIGHT
TZOFFSETFROM:+0000
TZOFFSETTO:+0100
TZNAME:BST
DTSTART:20270328T010000
END:DAYLIGHT
BEGIN:STANDARD
TZOFFSETFROM:+0100
TZOFFSETTO:+0000
TZNAME:GMT
DTSTART:20271031T010000
END:STANDARD
END:VTIMEZONE
BEGIN:VEVENT
DTSTART;TZID=Europe/London:20260422T100000
DTEND;TZID=Europe/London:20260422T120000
DTSTAMP:20260421T114440
CREATED:20251230T092249Z
LAST-MODIFIED:20251230T092404Z
UID:10003239-1776852000-1776859200@www.sherwoodnordicwalking.co.uk
SUMMARY:Relaxed Adventure to Clumber Park
DESCRIPTION:Welcome to Wednesday Walk Leader Adventure with Tricia and Liz. \n\n\nYour Walk Leaders will warm you all up before taking you on a steady 4 – 5 mile nordic walk through Clumber Park. \n\n\nPlease park at the Clumber Park Hotel and carefully make your way across to the Normanton Gate. \n\n\nDistance: 4 – 5 miles \nPace: Relaxed-Steady \n  \nLATE CANCELLATION POLICY: Sherwood Nordic Walking has a late cancellation policy whereby we require 24 hours’ notice for cancelling a walk booking. No refunds can be issued however it may be possible to use the credit one time on a future session. This will be dependent on the cancelling client making contact with Tracy\, Liz or Tricia. Refunds will only be issued if the session has been cancelled by the Instructor or Walk Leader. \nThank you\, \nTracy Hall \n07891932782 
URL:https://www.sherwoodnordicwalking.co.uk/walks/relaxed-adventure-to-clumber-park-24/
LOCATION:Clumber Park Hotel\, Clumber Park Hotel (Muthu)\, Worksop\, S80 3PA
CATEGORIES:Clumber Park Hotel
ORGANIZER;CN="Elaine Rockcliffe":MAILTO:elrockcliffe@btinternet.com
END:VEVENT
BEGIN:VEVENT
DTSTART;TZID=Europe/London:20260422T180000
DTEND;TZID=Europe/London:20260422T193000
DTSTAMP:20260421T114440
CREATED:20260412T104842Z
LAST-MODIFIED:20260412T104931Z
UID:10003336-1776880800-1776886200@www.sherwoodnordicwalking.co.uk
SUMMARY:Evening Adventure Boat Inn canal
DESCRIPTION:Make the most of the longer hours of daylight and get out for an evening adventure with Elaine. \nJoin us for a walk along the beautiful Chesterfield Canal. \nBeginning and ending at the Boat Inn\, Hayton\, the perfect place for a post-walk drink! \nPace: Moderate \nDistance: 4 miles \nLATE CANCELLATION POLICY: Sherwood Nordic Walking has a late cancellation policy whereby we require 24 hours’ notice for cancelling a walk booking. No refunds can be issued however it may be possible to use the credit one time on a future session. This will be dependent on the cancelling client making contact with Tracy.  \n07891932782 \n 
URL:https://www.sherwoodnordicwalking.co.uk/walks/evening-adventure-boat-inn-canal/
LOCATION:The Boat Inn\, 97 Main Street\, Hayton\, DN22 9LF
CATEGORIES:The Boat Inn
ORGANIZER;CN="Elaine Rockcliffe":MAILTO:elrockcliffe@btinternet.com
END:VEVENT
END:VCALENDAR