BEGIN:VCALENDAR
VERSION:2.0
PRODID:-//Sherwood Nordic Walking - ECPv6.15.12.2//NONSGML v1.0//EN
CALSCALE:GREGORIAN
METHOD:PUBLISH
X-ORIGINAL-URL:https://www.sherwoodnordicwalking.co.uk
X-WR-CALDESC:Events for Sherwood Nordic Walking
REFRESH-INTERVAL;VALUE=DURATION:PT1H
X-Robots-Tag:noindex
X-PUBLISHED-TTL:PT1H
BEGIN:VTIMEZONE
TZID:Europe/London
BEGIN:DAYLIGHT
TZOFFSETFROM:+0000
TZOFFSETTO:+0100
TZNAME:BST
DTSTART:20250330T010000
END:DAYLIGHT
BEGIN:STANDARD
TZOFFSETFROM:+0100
TZOFFSETTO:+0000
TZNAME:GMT
DTSTART:20251026T010000
END:STANDARD
BEGIN:DAYLIGHT
TZOFFSETFROM:+0000
TZOFFSETTO:+0100
TZNAME:BST
DTSTART:20260329T010000
END:DAYLIGHT
BEGIN:STANDARD
TZOFFSETFROM:+0100
TZOFFSETTO:+0000
TZNAME:GMT
DTSTART:20261025T010000
END:STANDARD
BEGIN:DAYLIGHT
TZOFFSETFROM:+0000
TZOFFSETTO:+0100
TZNAME:BST
DTSTART:20270328T010000
END:DAYLIGHT
BEGIN:STANDARD
TZOFFSETFROM:+0100
TZOFFSETTO:+0000
TZNAME:GMT
DTSTART:20271031T010000
END:STANDARD
END:VTIMEZONE
BEGIN:VEVENT
DTSTART;TZID=Europe/London:20260525T120000
DTEND;TZID=Europe/London:20260525T124500
DTSTAMP:20260423T180605
CREATED:20251229T182059Z
LAST-MODIFIED:20251229T182100Z
UID:10003081-1779710400-1779713100@www.sherwoodnordicwalking.co.uk
SUMMARY:Nordic Walking for Parkinson's
DESCRIPTION:Keeping active is essential for people living with Parkinson’s. It can help you manage your symptoms and slow their progression. \nNordic Walking is an exercise that can help with this and provide other valuable benefits too. As an exercise it is both safe and sociable. \nThe class size is currently a maximum of 6 people\, plus any partner or support friend can come along for free. \nClasses take place at King’s Park Retford until the Retford Cricket ground dries up. \nCost £3. \nYou will need to complete a ParQ health questionnaire before you attend your first class. \n  \nThis class is partially funded by Parkinson’s UK. \nLATE CANCELLATION POLICY: Sherwood Nordic Walking has a late cancellation policy whereby we require 24 hours’ notice for cancelling a walk booking. No refunds can be issued however it may be possible to use the credit one time on a future session. This will be dependent on the cancelling client making contact with Tracy. Refunds will only be issued if the session has been cancelled by the Instructor or Walk Leader. \nThank you\, \nTracy Hall \n07891932782
URL:https://www.sherwoodnordicwalking.co.uk/walks/nordic-walking-for-parkinsons-8-2-2-2/2026-05-25/
LOCATION:Kings Park\, Retford\, Chancery Lane\, Retford\, DN22 6DF
END:VEVENT
END:VCALENDAR